BEGIN:VCALENDAR
VERSION:2.0
PRODID:-//Visit Hillsborough, NC - ECPv6.15.4//NONSGML v1.0//EN
CALSCALE:GREGORIAN
METHOD:PUBLISH
X-WR-CALNAME:Visit Hillsborough, NC
X-ORIGINAL-URL:https://visithillsboroughnc.com
X-WR-CALDESC:Events for Visit Hillsborough, NC
REFRESH-INTERVAL;VALUE=DURATION:PT1H
X-Robots-Tag:noindex
X-PUBLISHED-TTL:PT1H
BEGIN:VTIMEZONE
TZID:America/New_York
BEGIN:DAYLIGHT
TZOFFSETFROM:-0500
TZOFFSETTO:-0400
TZNAME:EDT
DTSTART:20240310T070000
END:DAYLIGHT
BEGIN:STANDARD
TZOFFSETFROM:-0400
TZOFFSETTO:-0500
TZNAME:EST
DTSTART:20241103T060000
END:STANDARD
END:VTIMEZONE
BEGIN:VEVENT
DTSTART;TZID=America/New_York:20240422T110000
DTEND;TZID=America/New_York:20240422T120000
DTSTAMP:20260420T122028
CREATED:20240108T155220Z
LAST-MODIFIED:20240109T141909Z
UID:10003945-1713783600-1713787200@visithillsboroughnc.com
SUMMARY:Mini Monarch-Adult and Child Movement Classes
DESCRIPTION:Mondays 11:00-11:30am  \nmovement\, music\, tumbling\, and sensory play for crawlers through confident walkers with their caregiver. Infant siblings are welcome to attend with your family. \nMar 4\,11\,16 April 1\,8\,15\,22. (no 3/25 of OCS Spring Break)
URL:https://visithillsboroughnc.com/event/mini-monarch-adult-and-child-movement-classes-2/2024-04-22/
LOCATION:Monarch Movement Company\, 360 Executive Ct. #105\, Hillsborough\, NC\, 27278\, United States
CATEGORIES:Art,Class,Dance,Family,Health and wellness,Kids,Recreation,Wellness
ATTACH;FMTTYPE=image/png:https://visithillsboroughnc.com/wp-content/uploads/2024/01/Monarch-Logo-Square-6-1.png
ORGANIZER;CN="Monarch Movement Company":MAILTO:monarchmovementcompany@gmail.com
END:VEVENT
END:VCALENDAR