BEGIN:VCALENDAR
VERSION:2.0
PRODID:-//Visit Hillsborough, NC - ECPv6.15.4//NONSGML v1.0//EN
CALSCALE:GREGORIAN
METHOD:PUBLISH
X-WR-CALNAME:Visit Hillsborough, NC
X-ORIGINAL-URL:https://visithillsboroughnc.com
X-WR-CALDESC:Events for Visit Hillsborough, NC
REFRESH-INTERVAL;VALUE=DURATION:PT1H
X-Robots-Tag:noindex
X-PUBLISHED-TTL:PT1H
BEGIN:VTIMEZONE
TZID:America/New_York
BEGIN:DAYLIGHT
TZOFFSETFROM:-0500
TZOFFSETTO:-0400
TZNAME:EDT
DTSTART:20240310T070000
END:DAYLIGHT
BEGIN:STANDARD
TZOFFSETFROM:-0400
TZOFFSETTO:-0500
TZNAME:EST
DTSTART:20241103T060000
END:STANDARD
END:VTIMEZONE
BEGIN:VEVENT
DTSTART;TZID=America/New_York:20240526T080000
DTEND;TZID=America/New_York:20240526T170000
DTSTAMP:20260420T134738
CREATED:20240318T181716Z
LAST-MODIFIED:20241024T142404Z
UID:10006542-1716710400-1716742800@visithillsboroughnc.com
SUMMARY:Last Sundays Open House
DESCRIPTION:You’re invited to Moorefields on the Last Sunday of each month beginning May 26 through August 28 from 1:00 to 4:00 to stroll the grounds and gardens and take a free tour of the historic house.  Visit the Moore family cemetery\, as well as the graves of the cats of former owner Edward Draper-Savage\, and if you are so inclined\, take a walk through the adjoining Seven Mile Creek Nature Preserve. \nFriends of Moorefields Board Members will be on hand to talk about the history of Moorefields and update you on special projects. \nThis event is free\, but donations are encouraged. Click here to make a donation. Thank you!
URL:https://visithillsboroughnc.com/event/last-sundays-open-house/2024-05-26/
LOCATION:Moorefields Historic Site\, 2201 Moorefields Rd.\, Hillsborough\, NC\, United States
ATTACH;FMTTYPE=image/jpeg:https://visithillsboroughnc.com/wp-content/uploads/2024/03/63.jpg
GEO:36.0550234;-79.1440885
X-APPLE-STRUCTURED-LOCATION;VALUE=URI;X-ADDRESS=Moorefields Historic Site 2201 Moorefields Rd. Hillsborough NC United States;X-APPLE-RADIUS=500;X-TITLE=2201 Moorefields Rd.:geo:-79.1440885,36.0550234
END:VEVENT
END:VCALENDAR