BEGIN:VCALENDAR
VERSION:2.0
PRODID:-//Visit Hillsborough, NC - ECPv6.15.4//NONSGML v1.0//EN
CALSCALE:GREGORIAN
METHOD:PUBLISH
X-WR-CALNAME:Visit Hillsborough, NC
X-ORIGINAL-URL:https://visithillsboroughnc.com
X-WR-CALDESC:Events for Visit Hillsborough, NC
REFRESH-INTERVAL;VALUE=DURATION:PT1H
X-Robots-Tag:noindex
X-PUBLISHED-TTL:PT1H
BEGIN:VTIMEZONE
TZID:America/New_York
BEGIN:DAYLIGHT
TZOFFSETFROM:-0500
TZOFFSETTO:-0400
TZNAME:EDT
DTSTART:20240310T070000
END:DAYLIGHT
BEGIN:STANDARD
TZOFFSETFROM:-0400
TZOFFSETTO:-0500
TZNAME:EST
DTSTART:20241103T060000
END:STANDARD
END:VTIMEZONE
BEGIN:VEVENT
DTSTART;TZID=America/New_York:20240608T090000
DTEND;TZID=America/New_York:20240608T170000
DTSTAMP:20260420T122023
CREATED:20240606T132242Z
LAST-MODIFIED:20240606T132242Z
UID:10007534-1717837200-1717866000@visithillsboroughnc.com
SUMMARY:Hillsborough Fire Station #1 Open House
DESCRIPTION:The Orange County Rural Fire Department will be showing off its equipment\, answering questions\, and providing games for the kids. The Fire Station is located at 206 S. Churton Street. Parking is in the free garage behind Weaver Street Market.  A food truck may stop by around noon.
URL:https://visithillsboroughnc.com/event/hillsborough-fire-station-1-open-house/
LOCATION:Hillsborough Fire Station\, 206 S Churton st\, Hillsborough\, NC\, 27278\, United States
CATEGORIES:Family
END:VEVENT
BEGIN:VEVENT
DTSTART;TZID=America/New_York:20240608T093000
DTEND;TZID=America/New_York:20240608T103000
DTSTAMP:20260420T122023
CREATED:20240216T144814Z
LAST-MODIFIED:20240216T144814Z
UID:10005092-1717839000-1717842600@visithillsboroughnc.com
SUMMARY:Sound in the Gallery
DESCRIPTION:Join us for a unique sound experience at the Eno Arts Mill and Gallery the Second Saturday of each month. With each new exhibition of art in the gallery space\, we will explore concepts that are shared between the mediums of visual art and sound. Please bring a yoga mat\, cushion\, and comfort items for extended shavasana. We gather in the gallery space at 9:30. Attendees can choose one piece as a focus\, or bring the effect of the overall show to their mats and into meditation. There will be an opportunity for sharing and discussion before we end at 10:30. Space is limited to 10 attendees. To inquire\, and to register\, please email Jenn at liodhruna@gmail.com. \n 
URL:https://visithillsboroughnc.com/event/sound-in-the-gallery-2/2024-06-08/
LOCATION:Eno Arts Mill\, 437 Dimmocks Mill Road\, Suite 17\, Hillsborough\, NC\, 27278\, United States
CATEGORIES:Art
ATTACH;FMTTYPE=image/webp:https://visithillsboroughnc.com/wp-content/uploads/2024/02/ENews-Graphics_600x600-17-300x300-1.webp
END:VEVENT
BEGIN:VEVENT
DTSTART;TZID=America/New_York:20240608T100000
DTEND;TZID=America/New_York:20240608T120000
DTSTAMP:20260420T122023
CREATED:20240105T160537Z
LAST-MODIFIED:20240105T160537Z
UID:10004503-1717840800-1717848000@visithillsboroughnc.com
SUMMARY:Eno River Farmers Market
DESCRIPTION:Eno River Farmers Market in downtown Hillsborough offers farm fresh vegetables and fruit\, cheese\, pasture raised meat and eggs\, wood fire baked goods\, prepared foods and crafts from local growers and producers. Our vendors are selected with great care based on the quality and diversity of their offerings; vendors must be local (within 60 miles of Hillsborough for traditional foods; within NC for specialty items such as peaches and apples) and the original producers of their products. We have live music\, master gardeners\, arts and crafts activities\, chef demonstrations\, and more! \nThe market is open on Saturdays year round! April-November: 8am-12pm\, December-March: 10am-12pm \nFor More information visit our website: https://www.enoriverfarmersmarket.com/?fbclid=IwAR3Mfp4vM2d3wnvffaELfzGfLbEtFPLwJBEmDU5BDVmsUa-71Opb2qvpITw#home
URL:https://visithillsboroughnc.com/event/eno-river-farmers-market-2/2024-06-08/
LOCATION:Eno River Farmers Market Pavillion\, 144 E. Margaret Ln\, Hillsborough\, NC\, United States
ORGANIZER;CN="Eno River Farmers Market":MAILTO:enoriverfarmersmarket@gmail.com
GEO:36.074025;-79.097775
X-APPLE-STRUCTURED-LOCATION;VALUE=URI;X-ADDRESS=Eno River Farmers Market Pavillion 144 E. Margaret Ln Hillsborough NC United States;X-APPLE-RADIUS=500;X-TITLE=144 E. Margaret Ln:geo:-79.097775,36.074025
END:VEVENT
BEGIN:VEVENT
DTSTART;TZID=America/New_York:20240608T103000
DTEND;TZID=America/New_York:20240608T123000
DTSTAMP:20260420T122023
CREATED:20240220T141805Z
LAST-MODIFIED:20241010T183549Z
UID:10005410-1717842600-1717849800@visithillsboroughnc.com
SUMMARY:Historic Hillsborough Guided Walking Tours 2024
DESCRIPTION:Experience American history through the unique perspective of one of North Carolina’s oldest and most historically significant towns\, with a guided walking tour of downtown Hillsborough. Established in 1754 as the seat of government for Orange County\, Hillsborough’s colonial legacy and signs of its importance in North Carolina and American history can be seen everywhere. \nThe tour begins at the Hillsborough Visitors Center\, located in the eighteenth century Alexander Dickson Farm House\, and guides visitors to a variety of historic places from the site of a 1790s African American-owned distillery to the 1840s Orange County Courthouse and the grave of one of North Carolina’s signers of the Declaration of Independence. \nThis is an in-person walking tour that sometimes crosses uneven terrain. Please plan to be walking or standing for the duration of the event\, wear comfortable walking shoes\, and bring a water bottle (plus your curiosity)! \nFor groups that are concerned about the length\, duration\, or terrain of the tour. Please\, contact The Alliance for Historic Hillsborough for other options\, including bus tours. \n  \n\n\nTickets are $10. Kids age 10 and under are free. Register Here: https://www.eventbrite.com/e/historic-hillsborough-guided-walking-tour-tickets-314636485197
URL:https://visithillsboroughnc.com/event/historic-hillsborough-guided-walking-tours-2-copy/2024-06-08/
LOCATION:Hillsborough Visitors Center\, 150 E King Street\, Hillsborough\, NC\, 27278\, United States
CATEGORIES:Hiking,History,Outdoor,Tour
ATTACH;FMTTYPE=image/jpeg:https://visithillsboroughnc.com/wp-content/uploads/2024/02/https___cdn.evbuc_.com_images_688624599_190610135980_1_original.jpg
GEO:36.0750273;-79.0966848
X-APPLE-STRUCTURED-LOCATION;VALUE=URI;X-ADDRESS=Hillsborough Visitors Center 150 E King Street Hillsborough NC 27278 United States;X-APPLE-RADIUS=500;X-TITLE=150 E King Street:geo:-79.0966848,36.0750273
END:VEVENT
BEGIN:VEVENT
DTSTART;TZID=America/New_York:20240608T110000
DTEND;TZID=America/New_York:20240608T123000
DTSTAMP:20260420T122023
CREATED:20240320T161542Z
LAST-MODIFIED:20240320T161542Z
UID:10006737-1717844400-1717849800@visithillsboroughnc.com
SUMMARY:Ayr Mount Tours
DESCRIPTION:Located in Hillsborough\, North Carolina\, Ayr Mount strikes a startling figure in the historical town. The 1815 federal\, masonry edifice was the first of its kind in this once bustling trade town\, and thanks to the preservation efforts of our founder Richard Jenrette\, remains well preserved with several original family objects on display. \nCAHPT invites you to explore the site to learn about the design\, construction\, and maintenance of the estate as well as the lives of those\, enslaved and free\, who crafted and occupied the extravagant home and landscape from 1820 to 2018. \nVisitors are welcome to explore the site select Thursdays\, Fridays\, and Saturdays April through November. Guided tours will be offered Thursday & Friday at 1:00pm and 2:30pm. Tour times for Saturday take place at 11:00am\, 1:00pm\, and 2:30pm. All guests must purchase tickets in advance. \nTickets can be purchased here: https://secure.classicalamericanhomes.org/nx/portal/neonevents/events#/events/ \nThis is a potentially strenuous tour which includes climbing stairs\, traversing uneven terrain\, and enduring uncomfortable weather conditions and the presence of bugs or other wildlife. We regret that we cannot be responsible for those needing assistance and encourage all guests to dress accordingly. No food or beverages are allowed in the houses with the exception of a closed bottle of water.
URL:https://visithillsboroughnc.com/event/ayr-mount-tours-3/2024-06-08/
LOCATION:Ayr Mount Historic Site\, 376 St. Mary's Rd\, Hillsborough\, NC\, 27278\, United States
ATTACH;FMTTYPE=image/png:https://visithillsboroughnc.com/wp-content/uploads/2024/03/Screenshot-2024-03-20-120657.png
GEO:36.0806869;-79.0864684
X-APPLE-STRUCTURED-LOCATION;VALUE=URI;X-ADDRESS=Ayr Mount Historic Site 376 St. Mary's Rd Hillsborough NC 27278 United States;X-APPLE-RADIUS=500;X-TITLE=376 St. Mary's Rd:geo:-79.0864684,36.0806869
END:VEVENT
BEGIN:VEVENT
DTSTART;TZID=America/New_York:20240608T160000
DTEND;TZID=America/New_York:20240608T193000
DTSTAMP:20260420T122023
CREATED:20240528T142504Z
LAST-MODIFIED:20240528T142504Z
UID:10007516-1717862400-1717875000@visithillsboroughnc.com
SUMMARY:Breaking Loose Together
DESCRIPTION:Join us for an unforgettable evening at the first annual “Breaking Loose Together” event\, celebrating the rebellious spirit of the North Carolina Regulators who ignited the American Revolution at the Battle of Alamance. This exciting gathering is the second installment of our Carolina Supper Series\, building on the incredible success of our inaugural event at Angus Barn. \nEvent Details:\n\nDate: Saturday\, June 8th\nTime: 4:00 PM – 7:30 PM\nLocation: The Colonial Inn\, 153 West King Street\, Hillsborough\, North Carolina\n\nWhat to Expect:\n\nCocktails: Enjoy crafted Cooks Mill Whiskey cocktails.\nFood: Enjoy hors d’oeuvres prepared by The Colonial Inn.\nLive Music: Listen to live music by a surprise band.\nHistorical Reenactment: Witness a live reenactment of the Battle of Alamance.\n\nSupport a Great Cause:\nA portion of the proceeds will be donated to Preservation North Carolina\, a statewide non-profit organization dedicated to preserving North Carolina’s diverse heritage. \nTickets:\nLimited seating is available\, so be sure to secure your spot now!
URL:https://visithillsboroughnc.com/event/breaking-loose-together/
LOCATION:The Colonial Inn\, 153 W King St.\, Hillsborough\, NC\, 27278\, United States
CATEGORIES:Festival,Food/Drink,History,Live Music
ATTACH;FMTTYPE=image/png:https://visithillsboroughnc.com/wp-content/uploads/2024/05/Breaking-Loose-Together.png
END:VEVENT
BEGIN:VEVENT
DTSTART;TZID=America/New_York:20240608T160000
DTEND;TZID=America/New_York:20240608T193000
DTSTAMP:20260420T122023
CREATED:20240522T173822Z
LAST-MODIFIED:20240522T173822Z
UID:10007514-1717862400-1717875000@visithillsboroughnc.com
SUMMARY:First Annual "Breaking Loose Together" Regulator event
DESCRIPTION:Celebrate the Spirit of Rebellion at the First Annual “Breaking Loose Together” Event!\nJoin us for an unforgettable evening at the first annual “Breaking Loose Together” event\, celebrating the rebellious spirit of the North Carolina Regulators who ignited the American Revolution at the Battle of Alamance. This exciting gathering is the second installment of our Carolina Supper Series\, building on the incredible success of our inaugural event at Angus Barn. \nEvent Details:\n\nDate: Saturday\, June 8th\nTime: 4:00 PM – 7:30 PM\nLocation: The Colonial Inn\, 153 West King Street\, Hillsborough\, North Carolina\n\nWhat to Expect:\n\nCocktails: Enjoy crafted Cooks Mill Whiskey cocktails.\nFood: Enjoy hors d’oeuvres prepared by The Colonial Inn.\nLive Music: Listen to live music by a surprise band.\nHistorical Reenactment: Witness a live reenactment of the Battle of Alamance.\n\nSupport a Great Cause:\nA portion of the proceeds will be donated to Preservation North Carolina\, a statewide non-profit organization dedicated to preserving North Carolina’s diverse heritage. \nTickets:\nLimited seating is available\, so be sure to secure your spot now! \nhttps://www.eventbrite.com/e/breaking-loose-together-tickets-911382328077?aff=erelexpmlt
URL:https://visithillsboroughnc.com/event/first-annual-breaking-loose-together-regulator-event/
LOCATION:The Colonial Inn\, 153 W King St.\, Hillsborough\, NC\, 27278\, United States
CATEGORIES:Food/Drink,History,Live Music
ATTACH;FMTTYPE=image/jpeg:https://visithillsboroughnc.com/wp-content/uploads/2024/05/https___cdn.evbuc_.com_images_773910859_2011514088583_1_original.jpg
END:VEVENT
BEGIN:VEVENT
DTSTART;TZID=America/New_York:20240608T200000
DTEND;TZID=America/New_York:20240608T230000
DTSTAMP:20260420T122023
CREATED:20240516T195839Z
LAST-MODIFIED:20240516T195839Z
UID:10006981-1717876800-1717887600@visithillsboroughnc.com
SUMMARY:Movies With Goats
DESCRIPTION:Goat Snuggles + Outdoor Movies Under the Stars = The Perfect Summer Night. Plenty of memories to be made with goats adding to the fun and antics – roaming around looking for goodies\, snuggles\, and head scratches throughout the entire movie. Details: Please note that in order to comply with licensing requirements\, we are unable to announce what movie will be playing.\, BYOC – We suggest you bring folding chairs over blankets to sit on. This is a goat pasture\, goats poop: enough said. We ask that you not bring outside food for the animals; however\, for humans it is just fine. We have treats for the animals available at the concession stand.
URL:https://visithillsboroughnc.com/event/movies-with-goats-4/2024-06-08/
LOCATION:Spring Haven Farm\, 5306 Homer Ruffin Road\, Chapel HIll\, NC\, 27516\, United States
CATEGORIES:Agritourism,Family,Film,Kids,Outdoor
ATTACH;FMTTYPE=image/png:https://visithillsboroughnc.com/wp-content/uploads/2024/05/662f98e8bd03620012078291.png
ORGANIZER;CN="Andrew Crihfield":MAILTO:andrewcrihfield@gmail.com
GEO:36.003104;-79.083951
X-APPLE-STRUCTURED-LOCATION;VALUE=URI;X-ADDRESS=Spring Haven Farm 5306 Homer Ruffin Road Chapel HIll NC 27516 United States;X-APPLE-RADIUS=500;X-TITLE=5306 Homer Ruffin Road:geo:-79.083951,36.003104
END:VEVENT
END:VCALENDAR