BEGIN:VCALENDAR
VERSION:2.0
PRODID:-//Visit Hillsborough, NC - ECPv6.15.4//NONSGML v1.0//EN
CALSCALE:GREGORIAN
METHOD:PUBLISH
X-WR-CALNAME:Visit Hillsborough, NC
X-ORIGINAL-URL:https://visithillsboroughnc.com
X-WR-CALDESC:Events for Visit Hillsborough, NC
REFRESH-INTERVAL;VALUE=DURATION:PT1H
X-Robots-Tag:noindex
X-PUBLISHED-TTL:PT1H
BEGIN:VTIMEZONE
TZID:America/New_York
BEGIN:DAYLIGHT
TZOFFSETFROM:-0500
TZOFFSETTO:-0400
TZNAME:EDT
DTSTART:20240310T070000
END:DAYLIGHT
BEGIN:STANDARD
TZOFFSETFROM:-0400
TZOFFSETTO:-0500
TZNAME:EST
DTSTART:20241103T060000
END:STANDARD
END:VTIMEZONE
BEGIN:VEVENT
DTSTART;TZID=America/New_York:20240628T143000
DTEND;TZID=America/New_York:20240628T160000
DTSTAMP:20260422T061920
CREATED:20240320T161450Z
LAST-MODIFIED:20240320T161450Z
UID:10006666-1719585000-1719590400@visithillsboroughnc.com
SUMMARY:Ayr Mount Tours
DESCRIPTION:Located in Hillsborough\, North Carolina\, Ayr Mount strikes a startling figure in the historical town. The 1815 federal\, masonry edifice was the first of its kind in this once bustling trade town\, and thanks to the preservation efforts of our founder Richard Jenrette\, remains well preserved with several original family objects on display. \nCAHPT invites you to explore the site to learn about the design\, construction\, and maintenance of the estate as well as the lives of those\, enslaved and free\, who crafted and occupied the extravagant home and landscape from 1820 to 2018. \nVisitors are welcome to explore the site select Thursdays\, Fridays\, and Saturdays April through November. Guided tours will be offered Thursday & Friday at 1:00pm and 2:30pm. Tour times for Saturday take place at 11:00am\, 1:00pm\, and 2:30pm. All guests must purchase tickets in advance. \nTickets can be purchased here: https://secure.classicalamericanhomes.org/nx/portal/neonevents/events#/events/ \nThis is a potentially strenuous tour which includes climbing stairs\, traversing uneven terrain\, and enduring uncomfortable weather conditions and the presence of bugs or other wildlife. We regret that we cannot be responsible for those needing assistance and encourage all guests to dress accordingly. No food or beverages are allowed in the houses with the exception of a closed bottle of water.
URL:https://visithillsboroughnc.com/event/ayr-mount-tours-2/2024-06-28/
LOCATION:Ayr Mount Historic Site\, 376 St. Mary's Rd\, Hillsborough\, NC\, 27278\, United States
ATTACH;FMTTYPE=image/png:https://visithillsboroughnc.com/wp-content/uploads/2024/03/Screenshot-2024-03-20-120657.png
GEO:36.0806869;-79.0864684
X-APPLE-STRUCTURED-LOCATION;VALUE=URI;X-ADDRESS=Ayr Mount Historic Site 376 St. Mary's Rd Hillsborough NC 27278 United States;X-APPLE-RADIUS=500;X-TITLE=376 St. Mary's Rd:geo:-79.0864684,36.0806869
END:VEVENT
BEGIN:VEVENT
DTSTART;TZID=America/New_York:20240628T170000
DTEND;TZID=America/New_York:20240628T190000
DTSTAMP:20260422T061920
CREATED:20240611T192604Z
LAST-MODIFIED:20240611T192604Z
UID:10007540-1719594000-1719601200@visithillsboroughnc.com
SUMMARY:Community Celebration of Telling the Full Story
DESCRIPTION:Let’s party!!\n\nThe Alliance for Historic Hillsborough is thrilled to throw a community bash to spotlight “Telling the Full Story\,” a fantastic project unearthing the often-overlooked oral histories and tales of Hillsborough’s Black and Indigenous communities.\n\nJoin us to delve into the stories of the first 10 local sites\, mingle with the Telling the Full Story Committee members\, and groove to live tunes from local legend Sam Obie. The celebration kicks off at the iconic Dickerson Chapel from 5pm to 7pm. Don’t miss it!\n\nExplore the project now: https://historichillsborough.org/map/\n\n**This event is FREE and open to the public as part of Last Fridays hosted by the Hillsborough Arts Council. Telling the Full Story is supported by The National Trust.
URL:https://visithillsboroughnc.com/event/community-celebration-of-telling-the-full-story/
LOCATION:Dickerson Chapel: AME Zion Church\, 100 East Queen St\, Hillsborough\, NC\, 27278\, United States
CATEGORIES:Free,History,Live Music
ATTACH;FMTTYPE=image/png:https://visithillsboroughnc.com/wp-content/uploads/2024/06/Screenshot-2024-05-21-150548.png
GEO:36.0784955;-79.0992631
X-APPLE-STRUCTURED-LOCATION;VALUE=URI;X-ADDRESS=Dickerson Chapel: AME Zion Church 100 East Queen St Hillsborough NC 27278 United States;X-APPLE-RADIUS=500;X-TITLE=100 East Queen St:geo:-79.0992631,36.0784955
END:VEVENT
BEGIN:VEVENT
DTSTART;TZID=America/New_York:20240628T173000
DTEND;TZID=America/New_York:20240628T203000
DTSTAMP:20260422T061920
CREATED:20240617T185235Z
LAST-MODIFIED:20240617T185235Z
UID:10007544-1719595800-1719606600@visithillsboroughnc.com
SUMMARY:Community Wellness Event
DESCRIPTION:Join us for an outdoor evening of Self-Care & Community Wellness. We will be offering Chair Massage\, Acupuncture\, Energy Healing\, Yoga and Sound Bath! \nEnjoy this event as an opportunity to sample some wellness modalities that we offer and to meet our amazing team of practitioners! We are honored to serve you in health and wellness. \nThere will be sign up sheets at the event for Chair Massage\, Acupuncture and Energy Healing sessions. Consider arriving early before slots fill up. Payment for these services will be donation based. \nThe community Yoga class begins at 6:30pm. It will be an embodied\, 45 minute flow led by Rebekah Davis. Class will begin with meditation and breath practice\, then move into a gentle vinyasa flow\, ending with a nourishing body scan and Sound Bath (played by Elizabeth Cash). All levels of ability are welcome. Yoga/Sound Bath is FREE and pre-registration is NOT required.\n*Please bring a mat and water bottle to practice!\n*Please note: this is an OUTDOOR class. We will be practicing in the back yard on the grass. Bring bug spray if necessary. \nThere will also be some local artists displaying/selling their art! \nEvent Details Here
URL:https://visithillsboroughnc.com/event/community-wellness-event-4/
LOCATION:Cedar Walk Wellness\, 147 West King Street\, Hillsborough\, NC\, 27278\, United States
CATEGORIES:Health and wellness,Wellness
ATTACH;FMTTYPE=image/png:https://visithillsboroughnc.com/wp-content/uploads/2024/06/community-wellness-event-2.png
GEO:36.0751488;-79.1010374
X-APPLE-STRUCTURED-LOCATION;VALUE=URI;X-ADDRESS=Cedar Walk Wellness 147 West King Street Hillsborough NC 27278 United States;X-APPLE-RADIUS=500;X-TITLE=147 West King Street:geo:-79.1010374,36.0751488
END:VEVENT
BEGIN:VEVENT
DTSTART;TZID=America/New_York:20240628T173000
DTEND;TZID=America/New_York:20240628T210000
DTSTAMP:20260422T061920
CREATED:20240403T123920Z
LAST-MODIFIED:20240403T123920Z
UID:10006774-1719595800-1719608400@visithillsboroughnc.com
SUMMARY:2024 Last Fridays & the Art Walk!
DESCRIPTION:March – November\, Last Fridays & the Art Walk are FREE monthly events celebrating art\, culture\, & community in Hillsborough\, NC\, featuring: \n  \n\nThe Art Walk (Year-round) – 20+ venues offering exciting exhibitions\, live music\, family-friendly activities\, and more.\nRoaming Poets (March-November) – A lineup of local poets\, storytellers\, and spoken word artists stopping at multiple Art Walk venues throughout the evening.\nLiving Arts (March-November) – Drumming\, dance\, and other interactive opportunities to connect with nature and community with the Living Arts Collective in River Park.\nMakers Markets (May-October) – Local artists\, community groups\, live music\, special programming\, family activities\, and crafts on the Old Courthouse Lawn.\n\nLearn more about each monthly event lineup at www.lastfridays.org! *Details on this page are generally finalized the week before each Last Friday event.
URL:https://visithillsboroughnc.com/event/2024-last-fridays-the-art-walk/2024-06-28/
LOCATION:Downtown Historic Hillsborough\, 101 S Churton Street\, Hillsborough\, NC\, 27278
CATEGORIES:Art,Dance,Family,Free,Live Music,Outdoor
ATTACH;FMTTYPE=image/png:https://visithillsboroughnc.com/wp-content/uploads/2024/04/2024-LFAW-Event-Cover.png
END:VEVENT
BEGIN:VEVENT
DTSTART;TZID=America/New_York:20240628T180000
DTEND;TZID=America/New_York:20240628T210000
DTSTAMP:20260422T061920
CREATED:20240612T170812Z
LAST-MODIFIED:20240612T171058Z
UID:10007541-1719597600-1719608400@visithillsboroughnc.com
SUMMARY:Color and Form - opening reception
DESCRIPTION:Mixed metal jewelry by Nell Chandler\, abstracted landscape paintings by Ellie Reinhold\, hand-made functional pottery by Evelyn Ward. In the gallery June 25th through July 21st. Opening reception during Hillsborough’s Last Friday Art Walk\, June 28th\, 6-9pm. The Hillsborough Gallery of Arts is owned by 21 local artists featuring painting\, sculpture\, photography\, digital art\, photomontage\, glass arts\, jewelry\, handcrafted furniture\, pottery\, and mixed media. 121 N. Churton Street\, Hillsborough NC. Hours: Monday through Saturday 10-6\, Sunday 12 – 4. For more information about the show visit www.HillsboroughGallery.com
URL:https://visithillsboroughnc.com/event/color-and-form-opening-reception/
LOCATION:Hillsborough Gallery of Arts\, 121 N. Churton St.\, Hillsborough\, 27278
CATEGORIES:Art
ATTACH;FMTTYPE=image/jpeg:https://visithillsboroughnc.com/wp-content/uploads/2024/06/24-JUNE_PC.jpg
ORGANIZER;CN="Hillsborough Gallery of Arts":MAILTO:publicity@hillsboroughgallery.com
GEO:36.0760991;-79.0997261
X-APPLE-STRUCTURED-LOCATION;VALUE=URI;X-ADDRESS=Hillsborough Gallery of Arts 121 N. Churton St. Hillsborough 27278;X-APPLE-RADIUS=500;X-TITLE=121 N. Churton St.:geo:-79.0997261,36.0760991
END:VEVENT
BEGIN:VEVENT
DTSTART;TZID=America/New_York:20240628T180000
DTEND;TZID=America/New_York:20240628T210000
DTSTAMP:20260422T061920
CREATED:20240626T135903Z
LAST-MODIFIED:20240626T140024Z
UID:10007559-1719597600-1719608400@visithillsboroughnc.com
SUMMARY:Last Friday Art Walk Events at Margaret Lane Gallery
DESCRIPTION:The Last Friday Art Walk brings festivities and creative inspiration to all of downtown Hillsborough. \nHere at the Gallery we will have: \n– The opening reception for Magical Garden Stroll with art work from 20 local artists \n– A reception for The Unadvertised Show\, Part 2 featuring the art work of David Knox \n– The Zachary Gosset Duo\, keyboard and standup bass\, will be performing acoustic selections from the jazz standard repertoire from 6 to 8 pm \n– Roaming poets will be sharing poetry and spoken word from 8:15 to 8:45\, courtesy of the Hillsborough Arts Council \n– Free Creation Station\, with lots of art supplies for you to make your own art \n– Light refreshments \nPlus lots of good conversation\, fun\, and inspiration!
URL:https://visithillsboroughnc.com/event/last-friday-art-walk-events-at-margaret-lane-gallery-6/
LOCATION:Margaret Lane Gallery\, 121 West Margaret Lane\, Hillsborough\, NC\, 27278\, United States
CATEGORIES:Art
ATTACH;FMTTYPE=image/jpeg:https://visithillsboroughnc.com/wp-content/uploads/2024/06/last-friday-montage-june-2024-scaled.jpg
ORGANIZER;CN="Margaret Lane Gallery":MAILTO:margaretlanegallery@gmail.com
GEO:36.0743007;-79.1002029
X-APPLE-STRUCTURED-LOCATION;VALUE=URI;X-ADDRESS=Margaret Lane Gallery 121 West Margaret Lane Hillsborough NC 27278 United States;X-APPLE-RADIUS=500;X-TITLE=121 West Margaret Lane:geo:-79.1002029,36.0743007
END:VEVENT
END:VCALENDAR