BEGIN:VCALENDAR
VERSION:2.0
PRODID:-//Visit Hillsborough, NC - ECPv6.15.4//NONSGML v1.0//EN
CALSCALE:GREGORIAN
METHOD:PUBLISH
X-WR-CALNAME:Visit Hillsborough, NC
X-ORIGINAL-URL:https://visithillsboroughnc.com
X-WR-CALDESC:Events for Visit Hillsborough, NC
REFRESH-INTERVAL;VALUE=DURATION:PT1H
X-Robots-Tag:noindex
X-PUBLISHED-TTL:PT1H
BEGIN:VTIMEZONE
TZID:America/New_York
BEGIN:DAYLIGHT
TZOFFSETFROM:-0500
TZOFFSETTO:-0400
TZNAME:EDT
DTSTART:20250309T070000
END:DAYLIGHT
BEGIN:STANDARD
TZOFFSETFROM:-0400
TZOFFSETTO:-0500
TZNAME:EST
DTSTART:20251102T060000
END:STANDARD
END:VTIMEZONE
BEGIN:VEVENT
DTSTART;TZID=America/New_York:20250723T020000
DTEND;TZID=America/New_York:20250915T015959
DTSTAMP:20260424T053356
CREATED:20250722T130929Z
LAST-MODIFIED:20250722T130929Z
UID:10011551-1753236000-1757901599@visithillsboroughnc.com
SUMMARY:Heat Wave! a group art show
DESCRIPTION:Images depicting visions or sensations of heat\, what we do to cope with heat\, and the impact of heat in the world. Participating artists include Margery Chandler\, Carol Geisler\, Deborah Hoch\, Beth Hoffman\, D. Xavier Knox\, David Knox\, Ray LaMantia\, Catherine Marshall\, Jeff McEntire\, Bernard Thomas. \nOpening reception during the July 25 Last Friday Art Walk\, 6-9 pm.
URL:https://visithillsboroughnc.com/event/heat-wave-a-group-art-show-2/2025-07-23/
LOCATION:Margaret Lane Gallery\, 121 West Margaret Lane\, Hillsborough\, NC\, 27278\, United States
CATEGORIES:Art
ATTACH;FMTTYPE=image/jpeg:https://visithillsboroughnc.com/wp-content/uploads/2025/07/last-friday-montage-july-2025.jpg
ORGANIZER;CN="Margaret Lane Gallery":MAILTO:margaretlanegallery@gmail.com
GEO:36.0743007;-79.1002029
X-APPLE-STRUCTURED-LOCATION;VALUE=URI;X-ADDRESS=Margaret Lane Gallery 121 West Margaret Lane Hillsborough NC 27278 United States;X-APPLE-RADIUS=500;X-TITLE=121 West Margaret Lane:geo:-79.1002029,36.0743007
END:VEVENT
BEGIN:VEVENT
DTSTART;TZID=America/New_York:20250725T130000
DTEND;TZID=America/New_York:20250725T140000
DTSTAMP:20260424T053356
CREATED:20250227T202119Z
LAST-MODIFIED:20250227T202119Z
UID:10008725-1753448400-1753452000@visithillsboroughnc.com
SUMMARY:Ayr Mount Tours 2025
DESCRIPTION:Located in Hillsborough\, North Carolina\, Ayr Mount strikes a startling figure in the historical town. The 1815 federal\, masonry edifice was the first of its kind in this once bustling trade town\, and thanks to the preservation efforts of our founder Richard Jenrette\, remains well preserved with several original family objects on display. \nCAHPT invites you to explore the site to learn about the design\, construction\, and maintenance of the estate as well as the lives of those\, enslaved and free\, who crafted and occupied the extravagant home and landscape from 1820 to 2018. \nVisitors are welcome to explore the site select Thursdays\, Fridays\, and Saturdays April through November. Guided tours will be offered Thursday & Friday at 1:00pm and 2:30pm. Tour times for Saturday take place at 11:00am\, 1:00pm\, and 2:30pm. All guests must purchase tickets in advance. \nTickets can be bought here: https://secure.jenrette.org/nx/portal/neonevents/events?path=%2Fportal%2Fevents \nThis is a potentially strenuous tour which includes climbing stairs\, traversing uneven terrain\, and enduring uncomfortable weather conditions and the presence of bugs or other wildlife. We regret that we cannot be responsible for those needing assistance and encourage all guests to dress accordingly. No food or beverages are allowed in the houses with the exception of a closed bottle of water.
URL:https://visithillsboroughnc.com/event/ayr-mount-tours-2025/2025-07-25/
LOCATION:Ayr Mount Historic Site\, 376 St. Mary's Rd\, Hillsborough\, NC\, 27278\, United States
CATEGORIES:History,Tour
ATTACH;FMTTYPE=image/png:https://visithillsboroughnc.com/wp-content/uploads/2025/02/Screenshot-2025-02-27-151700.png
GEO:36.0806869;-79.0864684
X-APPLE-STRUCTURED-LOCATION;VALUE=URI;X-ADDRESS=Ayr Mount Historic Site 376 St. Mary's Rd Hillsborough NC 27278 United States;X-APPLE-RADIUS=500;X-TITLE=376 St. Mary's Rd:geo:-79.0864684,36.0806869
END:VEVENT
BEGIN:VEVENT
DTSTART;TZID=America/New_York:20250725T173000
DTEND;TZID=America/New_York:20250725T210000
DTSTAMP:20260424T053356
CREATED:20250509T195846Z
LAST-MODIFIED:20250630T140448Z
UID:10009871-1753464600-1753477200@visithillsboroughnc.com
SUMMARY:Last Fridays and the Art Walk!
DESCRIPTION:FREE monthly events celebrating ART\, CULTURE\, and COMMUNITY in Hillsborough\, NC\, featuring: \n⭐ The Art Walk (Year-Round) – 28+ participating venues offer monthly artist receptions\, demonstrations\, mini markets\, live music\, and more. \n⭐ Living Arts in River Park (April – October) – Community drumming\, dance\, and interactive opportunities with the Living Arts Collective in Hillsborough’s River Park. No matter your experience or comfort level with drumming or dance\, these gatherings are an opportunity to expand. All are welcome. \n⭐ Last Fridays Makers Markets & *NEW* Live on the Lawn Performance Series (May – October) – Local artists\, community groups\, community arts & crafts\, and live performances at the Old Orange County Courthouse Lawn. \nApplications to become an Approved Vendor for 2025 Last Fridays Makers Markets are NOW OPEN. Local artists and organizations/community groups are encouraged to apply. \nLearn about each monthly lineup\, download the itinerary\, and CHOOSE YOUR LAST FRIDAYS ADVENTURE at www.lastfridays.org*! \n*Details on this page are generally finalized the week before each Last Friday event. \nThis program was supported by the North Carolina Arts Council\, a division of the Department of Natural and Cultural Resources. Additional support is provided by the Tourism Board of the Town of Hillsborough.
URL:https://visithillsboroughnc.com/event/last-fridays-and-the-art-walk/2025-07-25/
LOCATION:Downtown Historic Hillsborough\, 101 S Churton Street\, Hillsborough\, NC\, 27278
CATEGORIES:Art,Dance,Festival,Free,Live Music,Maker,Outdoor
ATTACH;FMTTYPE=image/jpeg:https://visithillsboroughnc.com/wp-content/uploads/2025/05/2023_LFAW_June_Ryan-Dwyer_12.jpg
END:VEVENT
BEGIN:VEVENT
DTSTART;TZID=America/New_York:20250725T180000
DTEND;TZID=America/New_York:20250725T203000
DTSTAMP:20260424T053356
CREATED:20250415T165016Z
LAST-MODIFIED:20250415T165016Z
UID:10008981-1753466400-1753475400@visithillsboroughnc.com
SUMMARY:Masonic Hall Guided Tours
DESCRIPTION:The brothers of Eagle Lodge #19 are inviting the community to our historic Masonic Hall building for guided tours from 6-8:30 pm on the last Friday of each month from April to September. Tours are ongoing\, so stop by anytime during Last Friday.\n\nYou will begin with a history of our lot\, located along the Occaneechi Trading Path\, where the Regulators destroyed Edmund Fanning’s house in 1770. We will then welcome you inside and guide you through one of the earliest and most significant Masonic buildings in North America. Designed by North Carolina state architect William Nichols in the early 1820s\, our Greek Revival lodge building was constructed to be a lodge under the supervision of master builders Samuel Hancock and John Berry and was completed in 1825. Inside\, you will learn about the fire that nearly destroyed the building in 1945\, the unique arrangement of masonic lodge rooms\, some of the meaning behind our iconic symbols\, our connections to the history of UNC\, the design feature that was removed from our roof during the Civil War\, as well as the building’s many additional uses. For example\, the building once doubled as the Hillsborough Opera House and during several wars the building served as a hospital or preparatory for the American Red Cross.\n\nWe will also have cold bottled water and sodas for guests\, with additional activities throughout the summer in conjunction with the Arts Council’s Last Fridays celebrations. Tours are free\, though donations to our Historic Eagle Lodge Foundation are greatly appreciated and will contribute to ongoing preservation of our building.
URL:https://visithillsboroughnc.com/event/masonic-hall-guided-tours/2025-07-25/
LOCATION:Mason’s Lodge\, 142 W. King St. \, Hillsborough\, NC\, United States
CATEGORIES:Festival,History,Tour
ATTACH;FMTTYPE=image/jpeg:https://visithillsboroughnc.com/wp-content/uploads/2025/04/IMG_0505-scaled.jpeg
ORGANIZER;CN="Historic Eagle Lodge Foundation":MAILTO:eagle19@gmail.com
GEO:36.075622;-79.101034
X-APPLE-STRUCTURED-LOCATION;VALUE=URI;X-ADDRESS=Mason’s Lodge 142 W. King St.  Hillsborough NC United States;X-APPLE-RADIUS=500;X-TITLE=142 W. King St.:geo:-79.101034,36.075622
END:VEVENT
BEGIN:VEVENT
DTSTART;TZID=America/New_York:20250725T180000
DTEND;TZID=America/New_York:20250725T210000
DTSTAMP:20260424T053356
CREATED:20250709T180719Z
LAST-MODIFIED:20250709T180719Z
UID:10011521-1753466400-1753477200@visithillsboroughnc.com
SUMMARY:Art Colors Life
DESCRIPTION:Botanical and travel paintings by Chris Graebner\, vibrant acrylic landscape paintings by Marcy Lansman\, needle felted figurative sculpture by Lynn Wartski. In the gallery July 22nd through August 24th. Opening reception during Hillsborough’s Last Friday Art Walk\, July 25th\, 6-9pm. \nThe title of this show\, ”Art Colors Life\,” is taken from Chris Graebner’s favorite quote about art. Sir John Lubbock writes in his book\, The Pleasures of Life\, that “Art is unquestionably one of the purest and highest elements in human happiness. It trains the mind through the eye\, and the eye through the mind.  As the sun colors flowers\, so does art color life.” \nGraebner often paints from photos taken while traveling. Because she’s not traveling very much these days\, she spent several weeks this winter going through thousands of photos taken over the last twenty years\, pulling out the ones that called to her. Graebner says her photos are not great\, as they are often taken from a moving vehicle\, through streaky windows. However they return her to a time and place where something struck her that she wanted to remember – perhaps the way a plant really looks up close\, maybe the way ripples from a cat’s tongue make their way across a pool of water\, or maybe the angles and colors of rooftops – something in particular that she wanted to remember. Though an oil painter\, Graebner likes to add other mediums such as cold wax\, graphite or oil-based inks; often using acrylics to provide the base color of her paintings. \nLynn Wartski has also drawn inspiration from John Lubbock’s quote. Lubbock draws a reciprocal relationship between the mind and the eye and this year she’s noticed something similar with the last phrase\, that life can color art as well. Her felt sculptures usually evoke a sense of whimsy or humor\, but lighthearted joy-sparking art has been a challenge lately\, and  Wartski has found herself bouncing between the widely different aims of wanting to say more\, or just letting herself play. She decided to just let the work go where it wants to go. One piece may be a little more serious\, the next a pure flight of fancy.  “Winged Liberty Rises” is a piece that comments on current events and endeavors to express hope. The figure is a felted representation of a marble statue that has been knocked down and a little bit bloodied but possesses the determination and strength to pull itself up.  “Love Is Nurtured” is a joyful piece depicting a mother and baby giraffe. The two figures stand with foreheads touching and eyes closed. The mother’s long neck is bent down touching the young one. The giraffe’s distinctive pattern morphs from back to front into a stylized floral pattern that appears to pass from mother to baby. Wartski’s sculptures are created by needle felting wool fiber over a wire and batting armature. \nPainter Marcy Lansman is excited by color in her landscapes. Using areas of bright color on the canvas to create a base\, and using a palette knife to create an overpainting on top\, she lets bits of the underpainting peak through. For this show she’s used a wider color palette. For example\, her painting “Behind the Dunes” depicts the dramatically curving trees that grow just inland of the dunes on our North Carolina islands. In the painting the leaves vary from deep blue to a very pale white/yellow\, and Lansman finds that the wider the variety of colors\, the more vibrant the painting. Asked if she paints plein air\, Lansman says she visits the site and takes many\, many photos\, then uses the photos as inspiration for the painting. \nCome join us on July 25th from 6-9pm\, during Hillsborough’s Last Friday Art Walk for the opening reception and see the art inspired by the quote “Art Colors Life.” Enjoy old time country renditions by the Lars Barbary Trio on our patio \nIf you’d like a chance to meet these artists and hear about their inspiration and process\, their Artist Talk will be held in the gallery on Saturday\, August 9th at 4pm. \n  \nAbout the Hillsborough Gallery of Arts: \nThe Hillsborough Gallery of Arts is owned and operated by 20 local artists and represents these established artists exhibiting contemporary fine art and fine craft. The Gallery’s offerings include oil\, acrylic and watercolor painting\, sculpture\, pottery\, jewelry\, glass\, scratchboard\, fiber art\, and handcrafted furniture. 121 N. Churton Street\, Hillsborough\, NC 27278. Phone: (919) 732-5001. The gallery is open 10am-6pm Monday – Saturday\, and 12pm-4pm on Sunday. More information can be found on the HGA website: http://www.HillsboroughGallery.com
URL:https://visithillsboroughnc.com/event/art-colors-life/
LOCATION:Hillsborough Gallery of Arts\, 121 N. Churton St.\, Hillsborough\, 27278
CATEGORIES:Art,Live Music
ATTACH;FMTTYPE=image/jpeg:https://visithillsboroughnc.com/wp-content/uploads/2025/07/PC-25-July.jpg
ORGANIZER;CN="Hillsborough Gallery of Arts":MAILTO:publicity@hillsboroughgallery.com
GEO:36.0760991;-79.0997261
X-APPLE-STRUCTURED-LOCATION;VALUE=URI;X-ADDRESS=Hillsborough Gallery of Arts 121 N. Churton St. Hillsborough 27278;X-APPLE-RADIUS=500;X-TITLE=121 N. Churton St.:geo:-79.0997261,36.0760991
END:VEVENT
BEGIN:VEVENT
DTSTART;TZID=America/New_York:20250725T180000
DTEND;TZID=America/New_York:20250725T210000
DTSTAMP:20260424T053356
CREATED:20250714T192825Z
LAST-MODIFIED:20250714T192825Z
UID:10011548-1753466400-1753477200@visithillsboroughnc.com
SUMMARY:Closing Reception for "Fragile Light" at The Little market
DESCRIPTION:The Little Market\, Hillsborough’s new satellite gallery by the Hillsborough Gallery of Arts\, is proud to present Fragile Light\, an exhibition of works by photographer Holden Richards and painter/printmaker Jessica Poland. The closing reception will be held Friday\, July 25th from 6-9pm.
URL:https://visithillsboroughnc.com/event/closing-reception-for-fragile-light-at-the-little-market/
LOCATION:NC
CATEGORIES:Art
ATTACH;FMTTYPE=image/jpeg:https://visithillsboroughnc.com/wp-content/uploads/2025/07/sacredgeometry-scaled.jpg
ORGANIZER;CN="the little market":MAILTO:elliesnow@gmail.com
END:VEVENT
BEGIN:VEVENT
DTSTART;TZID=America/New_York:20250725T180000
DTEND;TZID=America/New_York:20250725T210000
DTSTAMP:20260424T053356
CREATED:20250714T193011Z
LAST-MODIFIED:20250714T193011Z
UID:10011547-1753466400-1753477200@visithillsboroughnc.com
SUMMARY:Heat Wave! a group art show
DESCRIPTION:Images depicting visions or sensations of heat\, what we do to cope with heat\, and the impact of heat in the world. \nParticipating artists include Margery Chandler\, Carol Geisler\, Deborah Hoch\, Beth Hoffman\, D. Xavier Knox\, David Knox\, Ray LaMantia\, Catherine Marshall\, Jeff McEntire\, Bernard Thomas. \nShow runs from July 23 through September 14. Opening reception during the July 25 Last Friday Art Walk\, 6-9 pm. \n 
URL:https://visithillsboroughnc.com/event/heat-wave-a-group-art-show/
LOCATION:Margaret Lane Gallery\, 121 West Margaret Lane\, Hillsborough\, NC\, 27278\, United States
CATEGORIES:Art
ATTACH;FMTTYPE=image/jpeg:https://visithillsboroughnc.com/wp-content/uploads/2025/07/heat-wave-sm.jpg
ORGANIZER;CN="Margaret Lane Gallery":MAILTO:margaretlanegallery@gmail.com
GEO:36.0743007;-79.1002029
X-APPLE-STRUCTURED-LOCATION;VALUE=URI;X-ADDRESS=Margaret Lane Gallery 121 West Margaret Lane Hillsborough NC 27278 United States;X-APPLE-RADIUS=500;X-TITLE=121 West Margaret Lane:geo:-79.1002029,36.0743007
END:VEVENT
END:VCALENDAR