BEGIN:VCALENDAR
VERSION:2.0
PRODID:-//Visit Hillsborough, NC - ECPv6.15.4//NONSGML v1.0//EN
CALSCALE:GREGORIAN
METHOD:PUBLISH
X-WR-CALNAME:Visit Hillsborough, NC
X-ORIGINAL-URL:https://visithillsboroughnc.com
X-WR-CALDESC:Events for Visit Hillsborough, NC
REFRESH-INTERVAL;VALUE=DURATION:PT1H
X-Robots-Tag:noindex
X-PUBLISHED-TTL:PT1H
BEGIN:VTIMEZONE
TZID:America/New_York
BEGIN:DAYLIGHT
TZOFFSETFROM:-0500
TZOFFSETTO:-0400
TZNAME:EDT
DTSTART:20260308T070000
END:DAYLIGHT
BEGIN:STANDARD
TZOFFSETFROM:-0400
TZOFFSETTO:-0500
TZNAME:EST
DTSTART:20261101T060000
END:STANDARD
END:VTIMEZONE
BEGIN:VEVENT
DTSTART;TZID=America/New_York:20260328T110000
DTEND;TZID=America/New_York:20260328T180000
DTSTAMP:20260419T122747
CREATED:20260312T133404Z
LAST-MODIFIED:20260318T185456Z
UID:10016551-1774695600-1774720800@visithillsboroughnc.com
SUMMARY:Severed Specimens and Cultural Critiques\, a CRHS International Baccalaureate Art Senior Student Show featuring Nichole Palombo
DESCRIPTION:  \nThe second of this year’s Cedar Ridge High School International Baccalaureate Art senior student shows. \nFrom Nichole: I aim to utilize a scientific lens to address how environmental neglect leads to social and ethical dilemmas. Whether this concept is approached by mediums of acrylic\, wool\, collage or found objects\, all encourage the viewer to reflect on how our current societal systems harm each other and the environment. \nThe show runs Wednesday\, March 18 through Sunday\, April 12 at Margaret Lane Gallery\, 121 W Margaret Lane\, Hillsborough\, NC. \nThe opening reception — which is free and open to the general public — will be held Friday March 20\, 6 to 7:30.
URL:https://visithillsboroughnc.com/event/severed-specimens-and-cultural-critiques-a-crhs-international-baccalaureate-art-senior-student-show-featuring-nichole-palombo/2026-03-28/
LOCATION:Margaret Lane Gallery\, 121 West Margaret Lane\, Hillsborough\, NC\, 27278\, United States
CATEGORIES:Art
ATTACH;FMTTYPE=image/jpeg:https://visithillsboroughnc.com/wp-content/uploads/2026/03/nichole-palombo-flier.jpg
ORGANIZER;CN="Margaret Lane Gallery":MAILTO:margaretlanegallery@gmail.com
GEO:36.0743007;-79.1002029
X-APPLE-STRUCTURED-LOCATION;VALUE=URI;X-ADDRESS=Margaret Lane Gallery 121 West Margaret Lane Hillsborough NC 27278 United States;X-APPLE-RADIUS=500;X-TITLE=121 West Margaret Lane:geo:-79.1002029,36.0743007
END:VEVENT
END:VCALENDAR