BEGIN:VCALENDAR
VERSION:2.0
PRODID:-//Visit Hillsborough, NC - ECPv6.15.4//NONSGML v1.0//EN
CALSCALE:GREGORIAN
METHOD:PUBLISH
X-ORIGINAL-URL:https://visithillsboroughnc.com
X-WR-CALDESC:Events for Visit Hillsborough, NC
REFRESH-INTERVAL;VALUE=DURATION:PT1H
X-Robots-Tag:noindex
X-PUBLISHED-TTL:PT1H
BEGIN:VTIMEZONE
TZID:America/New_York
BEGIN:DAYLIGHT
TZOFFSETFROM:-0500
TZOFFSETTO:-0400
TZNAME:EDT
DTSTART:20260308T070000
END:DAYLIGHT
BEGIN:STANDARD
TZOFFSETFROM:-0400
TZOFFSETTO:-0500
TZNAME:EST
DTSTART:20261101T060000
END:STANDARD
END:VTIMEZONE
BEGIN:VEVENT
DTSTART;TZID=America/New_York:20260529T173000
DTEND;TZID=America/New_York:20260529T210000
DTSTAMP:20260422T125908
CREATED:20260401T200031Z
LAST-MODIFIED:20260415T194503Z
UID:10016993-1780075800-1780088400@visithillsboroughnc.com
SUMMARY:Last Fridays & the Art Walk
DESCRIPTION:FREE monthly events celebrating ART\, CULTURE\, and COMMUNITY in Hillsborough\, NC\, featuring: \n⭐ The Art Walk (Year-Round) – 19 participating venues offer monthly artist receptions\, demonstrations\, free crafts\, live music\, and more. \n⭐ Last Fridays Makers Markets (May – October) – Local artists\, community groups\, and family-friendly activities at the Old Orange County Courthouse North Lawn. \n⭐ Live on the Lawn Performance Series (April-October) – Live performances ranging from dance to drums\, fashion\, puppets\, singer-songwriters\, local bands\, and more on the Old Orange County Courthouse South Lawn. \n  \nApplications to become an Approved Vendor for 2026 Last Fridays Makers Markets are NOW OPEN. Local artists are encouraged to apply. \nLearn about each monthly lineup\, download the itinerary\, and CHOOSE YOUR LAST FRIDAYS ADVENTURE at www.lastfridays.org*! \n*Details on this page are generally finalized the week before each Last Friday event. \n  \nOperating support provided by the North Carolina Arts Council\, a division of the Department of Natural and Cultural Resources\, and the Orange County Arts Commission. Additional support provided by the Tourism Board and the Town of Hillsborough.
URL:https://visithillsboroughnc.com/event/last-fridays-the-art-walk/2026-05-29/
LOCATION:Historic County Courthouse Lawn\, 104 E King Street\, Hillsborough\, NC\, 27278\, United States
CATEGORIES:Art,Family,Festival,Live Music,Outdoor
ATTACH;FMTTYPE=image/jpeg:https://visithillsboroughnc.com/wp-content/uploads/2026/04/2025_LFAW_July_Lainey-Tyson-66-scaled.jpg
END:VEVENT
BEGIN:VEVENT
DTSTART;TZID=America/New_York:20260529T180000
DTEND;TZID=America/New_York:20260529T210000
DTSTAMP:20260422T125908
CREATED:20260421T144511Z
LAST-MODIFIED:20260421T144511Z
UID:10017043-1780077600-1780088400@visithillsboroughnc.com
SUMMARY:MUSE
DESCRIPTION:Sterling silver and gemstone jewelry by Arianna Bara\, nature and figurative watercolor paintings by Ryann Carey\, artistic handcrafted fine furniture by Pete Rodrigues. \nMuse will be in the gallery May 26th through June 21st with an opening reception during Hillsborough’s Last Friday Art Walk on May 29th from 6-9pm. During the art walk Steve Fishman & The Pied Vipers will play stringy\, swingy blues and original music on the front patio. \nThe show will include an artist talk by Bara\, Carey and Rodrigues in the gallery on Saturday\, June 6th at 4pm. \nJeweler Arianna Bara’s muse has always been nature: pattern\, texture\, shape\, color\, tone and shadow. Her new work incorporates stones from her travels to Tucson\, where yearly gem shows attract sellers and buyers from around the world.  Some of Bara’s favorite pieces in the show include Morrisonite jasper\, a rare and highly sought after jasper with strong patterns and color; dendritic limestone\, which is characterized by delicate trickling lines often resembling plant fossils; and subtle but striking Australian boulder opal. Much of Bara’s recent work includes an ancient Korean gilding technique called Keum-boo which she has also used for some pieces in this show. \nInitially painter Ryann Carey felt the title “Muse” would cause her to focus her work in a single direction. “I admire artists who dedicate themselves in this way\,” said Carey “because it offers the opportunity to develop not only technical skill but also an intimacy with an idea or subject. Yet whether from a lack of discipline or scattered mind\, the moment I try to settle on a singular muse\, I feel an immediate sense of confinement. It is as if choosing one thing requires me to turn away from everything else. That feeling of being boxed in makes me resist the very structure I desired to attain.” Still\, what she creates is a cohesive body of work in a less obvious way\, showing what strikes her in the visual environment surrounding her. Says Carey\, “My work is an attempt to honor and share these pauses. That moment of awareness when the world feels briefly heightened and clear.” \nFor woodworker Pete Rodrigues the definition of Muse is someone or something that provides creative inspiration. “As I continued to think about creative inspiration\, I realized that having some type of curve within my work always inspires me\,” he said.  “So\, I decided to have a curved form within every piece.  My mind immediately started to design\, and I’m excited to display wall hanging pieces and furniture that have this curved form within their design.” \nThe Hillsborough Gallery of Arts is owned by 21 local artists featuring painting\, sculpture\, photography\, glass arts\, jewelry\, turned wood\, handcrafted furniture\, pottery\, scratchboard\, and mixed media. 121 N. Churton Street\, Hillsborough NC. Hours: Monday through Saturday 10-6\, Sunday 12-4. For more information about the show visit www.HillsboroughGallery.com
URL:https://visithillsboroughnc.com/event/muse/
LOCATION:Hillsborough Gallery of Arts\, 121 N. Churton St.\, Hillsborough\, 27278
CATEGORIES:Art
ATTACH;FMTTYPE=image/jpeg:https://visithillsboroughnc.com/wp-content/uploads/2026/04/Ryann-Carey-Linger300dpi.jpg
ORGANIZER;CN="Hillsborough Gallery of Arts":MAILTO:publicity@hillsboroughgallery.com
GEO:36.0760991;-79.0997261
X-APPLE-STRUCTURED-LOCATION;VALUE=URI;X-ADDRESS=Hillsborough Gallery of Arts 121 N. Churton St. Hillsborough 27278;X-APPLE-RADIUS=500;X-TITLE=121 N. Churton St.:geo:-79.0997261,36.0760991
END:VEVENT
BEGIN:VEVENT
DTSTART;TZID=America/New_York:20260626T173000
DTEND;TZID=America/New_York:20260626T210000
DTSTAMP:20260422T125908
CREATED:20260401T200031Z
LAST-MODIFIED:20260415T194503Z
UID:10016994-1782495000-1782507600@visithillsboroughnc.com
SUMMARY:Last Fridays & the Art Walk
DESCRIPTION:FREE monthly events celebrating ART\, CULTURE\, and COMMUNITY in Hillsborough\, NC\, featuring: \n⭐ The Art Walk (Year-Round) – 19 participating venues offer monthly artist receptions\, demonstrations\, free crafts\, live music\, and more. \n⭐ Last Fridays Makers Markets (May – October) – Local artists\, community groups\, and family-friendly activities at the Old Orange County Courthouse North Lawn. \n⭐ Live on the Lawn Performance Series (April-October) – Live performances ranging from dance to drums\, fashion\, puppets\, singer-songwriters\, local bands\, and more on the Old Orange County Courthouse South Lawn. \n  \nApplications to become an Approved Vendor for 2026 Last Fridays Makers Markets are NOW OPEN. Local artists are encouraged to apply. \nLearn about each monthly lineup\, download the itinerary\, and CHOOSE YOUR LAST FRIDAYS ADVENTURE at www.lastfridays.org*! \n*Details on this page are generally finalized the week before each Last Friday event. \n  \nOperating support provided by the North Carolina Arts Council\, a division of the Department of Natural and Cultural Resources\, and the Orange County Arts Commission. Additional support provided by the Tourism Board and the Town of Hillsborough.
URL:https://visithillsboroughnc.com/event/last-fridays-the-art-walk/2026-06-26/
LOCATION:Historic County Courthouse Lawn\, 104 E King Street\, Hillsborough\, NC\, 27278\, United States
CATEGORIES:Art,Family,Festival,Live Music,Outdoor
ATTACH;FMTTYPE=image/jpeg:https://visithillsboroughnc.com/wp-content/uploads/2026/04/2025_LFAW_July_Lainey-Tyson-66-scaled.jpg
END:VEVENT
BEGIN:VEVENT
DTSTART;TZID=America/New_York:20260731T173000
DTEND;TZID=America/New_York:20260731T210000
DTSTAMP:20260422T125908
CREATED:20260401T200031Z
LAST-MODIFIED:20260415T194503Z
UID:10016995-1785519000-1785531600@visithillsboroughnc.com
SUMMARY:Last Fridays & the Art Walk
DESCRIPTION:FREE monthly events celebrating ART\, CULTURE\, and COMMUNITY in Hillsborough\, NC\, featuring: \n⭐ The Art Walk (Year-Round) – 19 participating venues offer monthly artist receptions\, demonstrations\, free crafts\, live music\, and more. \n⭐ Last Fridays Makers Markets (May – October) – Local artists\, community groups\, and family-friendly activities at the Old Orange County Courthouse North Lawn. \n⭐ Live on the Lawn Performance Series (April-October) – Live performances ranging from dance to drums\, fashion\, puppets\, singer-songwriters\, local bands\, and more on the Old Orange County Courthouse South Lawn. \n  \nApplications to become an Approved Vendor for 2026 Last Fridays Makers Markets are NOW OPEN. Local artists are encouraged to apply. \nLearn about each monthly lineup\, download the itinerary\, and CHOOSE YOUR LAST FRIDAYS ADVENTURE at www.lastfridays.org*! \n*Details on this page are generally finalized the week before each Last Friday event. \n  \nOperating support provided by the North Carolina Arts Council\, a division of the Department of Natural and Cultural Resources\, and the Orange County Arts Commission. Additional support provided by the Tourism Board and the Town of Hillsborough.
URL:https://visithillsboroughnc.com/event/last-fridays-the-art-walk/2026-07-31/
LOCATION:Historic County Courthouse Lawn\, 104 E King Street\, Hillsborough\, NC\, 27278\, United States
CATEGORIES:Art,Family,Festival,Live Music,Outdoor
ATTACH;FMTTYPE=image/jpeg:https://visithillsboroughnc.com/wp-content/uploads/2026/04/2025_LFAW_July_Lainey-Tyson-66-scaled.jpg
END:VEVENT
BEGIN:VEVENT
DTSTART;TZID=America/New_York:20260828T173000
DTEND;TZID=America/New_York:20260828T210000
DTSTAMP:20260422T125908
CREATED:20260401T200031Z
LAST-MODIFIED:20260415T194503Z
UID:10016996-1787938200-1787950800@visithillsboroughnc.com
SUMMARY:Last Fridays & the Art Walk
DESCRIPTION:FREE monthly events celebrating ART\, CULTURE\, and COMMUNITY in Hillsborough\, NC\, featuring: \n⭐ The Art Walk (Year-Round) – 19 participating venues offer monthly artist receptions\, demonstrations\, free crafts\, live music\, and more. \n⭐ Last Fridays Makers Markets (May – October) – Local artists\, community groups\, and family-friendly activities at the Old Orange County Courthouse North Lawn. \n⭐ Live on the Lawn Performance Series (April-October) – Live performances ranging from dance to drums\, fashion\, puppets\, singer-songwriters\, local bands\, and more on the Old Orange County Courthouse South Lawn. \n  \nApplications to become an Approved Vendor for 2026 Last Fridays Makers Markets are NOW OPEN. Local artists are encouraged to apply. \nLearn about each monthly lineup\, download the itinerary\, and CHOOSE YOUR LAST FRIDAYS ADVENTURE at www.lastfridays.org*! \n*Details on this page are generally finalized the week before each Last Friday event. \n  \nOperating support provided by the North Carolina Arts Council\, a division of the Department of Natural and Cultural Resources\, and the Orange County Arts Commission. Additional support provided by the Tourism Board and the Town of Hillsborough.
URL:https://visithillsboroughnc.com/event/last-fridays-the-art-walk/2026-08-28/
LOCATION:Historic County Courthouse Lawn\, 104 E King Street\, Hillsborough\, NC\, 27278\, United States
CATEGORIES:Art,Family,Festival,Live Music,Outdoor
ATTACH;FMTTYPE=image/jpeg:https://visithillsboroughnc.com/wp-content/uploads/2026/04/2025_LFAW_July_Lainey-Tyson-66-scaled.jpg
END:VEVENT
BEGIN:VEVENT
DTSTART;TZID=America/New_York:20260925T173000
DTEND;TZID=America/New_York:20260925T210000
DTSTAMP:20260422T125908
CREATED:20260401T200031Z
LAST-MODIFIED:20260415T194503Z
UID:10016997-1790357400-1790370000@visithillsboroughnc.com
SUMMARY:Last Fridays & the Art Walk
DESCRIPTION:FREE monthly events celebrating ART\, CULTURE\, and COMMUNITY in Hillsborough\, NC\, featuring: \n⭐ The Art Walk (Year-Round) – 19 participating venues offer monthly artist receptions\, demonstrations\, free crafts\, live music\, and more. \n⭐ Last Fridays Makers Markets (May – October) – Local artists\, community groups\, and family-friendly activities at the Old Orange County Courthouse North Lawn. \n⭐ Live on the Lawn Performance Series (April-October) – Live performances ranging from dance to drums\, fashion\, puppets\, singer-songwriters\, local bands\, and more on the Old Orange County Courthouse South Lawn. \n  \nApplications to become an Approved Vendor for 2026 Last Fridays Makers Markets are NOW OPEN. Local artists are encouraged to apply. \nLearn about each monthly lineup\, download the itinerary\, and CHOOSE YOUR LAST FRIDAYS ADVENTURE at www.lastfridays.org*! \n*Details on this page are generally finalized the week before each Last Friday event. \n  \nOperating support provided by the North Carolina Arts Council\, a division of the Department of Natural and Cultural Resources\, and the Orange County Arts Commission. Additional support provided by the Tourism Board and the Town of Hillsborough.
URL:https://visithillsboroughnc.com/event/last-fridays-the-art-walk/2026-09-25/
LOCATION:Historic County Courthouse Lawn\, 104 E King Street\, Hillsborough\, NC\, 27278\, United States
CATEGORIES:Art,Family,Festival,Live Music,Outdoor
ATTACH;FMTTYPE=image/jpeg:https://visithillsboroughnc.com/wp-content/uploads/2026/04/2025_LFAW_July_Lainey-Tyson-66-scaled.jpg
END:VEVENT
BEGIN:VEVENT
DTSTART;TZID=America/New_York:20261030T173000
DTEND;TZID=America/New_York:20261030T210000
DTSTAMP:20260422T125908
CREATED:20260401T200031Z
LAST-MODIFIED:20260415T194503Z
UID:10016998-1793381400-1793394000@visithillsboroughnc.com
SUMMARY:Last Fridays & the Art Walk
DESCRIPTION:FREE monthly events celebrating ART\, CULTURE\, and COMMUNITY in Hillsborough\, NC\, featuring: \n⭐ The Art Walk (Year-Round) – 19 participating venues offer monthly artist receptions\, demonstrations\, free crafts\, live music\, and more. \n⭐ Last Fridays Makers Markets (May – October) – Local artists\, community groups\, and family-friendly activities at the Old Orange County Courthouse North Lawn. \n⭐ Live on the Lawn Performance Series (April-October) – Live performances ranging from dance to drums\, fashion\, puppets\, singer-songwriters\, local bands\, and more on the Old Orange County Courthouse South Lawn. \n  \nApplications to become an Approved Vendor for 2026 Last Fridays Makers Markets are NOW OPEN. Local artists are encouraged to apply. \nLearn about each monthly lineup\, download the itinerary\, and CHOOSE YOUR LAST FRIDAYS ADVENTURE at www.lastfridays.org*! \n*Details on this page are generally finalized the week before each Last Friday event. \n  \nOperating support provided by the North Carolina Arts Council\, a division of the Department of Natural and Cultural Resources\, and the Orange County Arts Commission. Additional support provided by the Tourism Board and the Town of Hillsborough.
URL:https://visithillsboroughnc.com/event/last-fridays-the-art-walk/2026-10-30/
LOCATION:Historic County Courthouse Lawn\, 104 E King Street\, Hillsborough\, NC\, 27278\, United States
CATEGORIES:Art,Family,Festival,Live Music,Outdoor
ATTACH;FMTTYPE=image/jpeg:https://visithillsboroughnc.com/wp-content/uploads/2026/04/2025_LFAW_July_Lainey-Tyson-66-scaled.jpg
END:VEVENT
END:VCALENDAR