BEGIN:VCALENDAR
VERSION:2.0
PRODID:-//Visit Hillsborough, NC - ECPv6.15.4//NONSGML v1.0//EN
CALSCALE:GREGORIAN
METHOD:PUBLISH
X-ORIGINAL-URL:https://visithillsboroughnc.com
X-WR-CALDESC:Events for Visit Hillsborough, NC
REFRESH-INTERVAL;VALUE=DURATION:PT1H
X-Robots-Tag:noindex
X-PUBLISHED-TTL:PT1H
BEGIN:VTIMEZONE
TZID:America/New_York
BEGIN:DAYLIGHT
TZOFFSETFROM:-0500
TZOFFSETTO:-0400
TZNAME:EDT
DTSTART:20250309T070000
END:DAYLIGHT
BEGIN:STANDARD
TZOFFSETFROM:-0400
TZOFFSETTO:-0500
TZNAME:EST
DTSTART:20251102T060000
END:STANDARD
END:VTIMEZONE
BEGIN:VEVENT
DTSTART;TZID=America/New_York:20250329T103000
DTEND;TZID=America/New_York:20250329T123000
DTSTAMP:20260421T080810
CREATED:20250227T192749Z
LAST-MODIFIED:20250227T192749Z
UID:10008682-1743244200-1743251400@visithillsboroughnc.com
SUMMARY:West Hillsborough Walk and Talk
DESCRIPTION:Join us for a fun and informative stroll through the charming streets of West Hillsborough. Discover the rich history\, historic mills\, and hidden gems of this beautiful community. \nEmbark on a captivating Stroll of West Hillsborough\, where the echoes of its industrial past still resonate today. See the historic Eno Cotton Mill and Bellevue Manufacturing Company\, learning about the techniques that powered them and the different owners. Delve into the stories of the local mill villages\, once bustling with the energy of hardworking communities. Experience the vibrant spirit of modern-day West Hillsborough\, where local businesses continue to thrive. Join us for an unforgettable journey through time and tradition in this picturesque corner of North Carolina. \nBuy tickets here: https://www.zeffy.com/ticketing/west-hillsborough-walk-and-talk \n* This is an in-person walking tour that sometimes crosses uneven terrain. Please plan to be walking or standing for the duration of the event\, wear comfortable walking shoes\, and bring a water bottle (plus your curiosity)!
URL:https://visithillsboroughnc.com/event/west-hillsborough-walk-and-talk/2025-03-29/
LOCATION:West Hillsborough Parking Lot\, West Hillsborough Parking Lot\, Hillsborough\, NC\, 27278\, United States
CATEGORIES:Family,History,Outdoor,Tour
ATTACH;FMTTYPE=image/png:https://visithillsboroughnc.com/wp-content/uploads/2025/02/West-HB-walk-and-talk.png
END:VEVENT
END:VCALENDAR