BEGIN:VCALENDAR
VERSION:2.0
PRODID:-//Visit Hillsborough, NC - ECPv6.15.4//NONSGML v1.0//EN
CALSCALE:GREGORIAN
METHOD:PUBLISH
X-ORIGINAL-URL:https://visithillsboroughnc.com
X-WR-CALDESC:Events for Visit Hillsborough, NC
REFRESH-INTERVAL;VALUE=DURATION:PT1H
X-Robots-Tag:noindex
X-PUBLISHED-TTL:PT1H
BEGIN:VTIMEZONE
TZID:America/New_York
BEGIN:DAYLIGHT
TZOFFSETFROM:-0500
TZOFFSETTO:-0400
TZNAME:EDT
DTSTART:20250309T070000
END:DAYLIGHT
BEGIN:STANDARD
TZOFFSETFROM:-0400
TZOFFSETTO:-0500
TZNAME:EST
DTSTART:20251102T060000
END:STANDARD
END:VTIMEZONE
BEGIN:VEVENT
DTSTART;TZID=America/New_York:20250619T180000
DTEND;TZID=America/New_York:20250619T190000
DTSTAMP:20260425T141532
CREATED:20250617T180445Z
LAST-MODIFIED:20250617T180445Z
UID:10010701-1750356000-1750359600@visithillsboroughnc.com
SUMMARY:*254th Annual Regulator Remembrance Event*
DESCRIPTION:The 254th Annual Regulator Remembrance Day Event will take place Thursday\, June 19\, at 6 p.m.\, at the Regulator Historic Marker site in Cameron Park\, 200 E. King St.\, Hillsborough. \nThis year’s event marks the 2534th anniversary of the date on June 19\, 1771 when six early American patriots were executed at the site by English colonial Governor William Tryon on the charge of High Treason against the King of England for questioning English colonial authority as part of the Regulator Rebellion. \nA mammoth stone slab was placed at the site in the late 18th/early 19th century as a marker. Since 1771\, descendants and the general public have quietly visited the site to lay flowers there in remembrance of those brave patriots. That tradition has continued for over 250 years. \nMore formal commemoration events were revived again in 2013 by Scott Washington\, former Assistant Director of the Orange County Historical Museum and Hillsborough Historian. The annual Regulator Remembrance Event is a way for descendants and all who care about this history to intentionally remember these early patriots. \nThe 254th anniversary ceremonies will include introduction of special guests\, historical remarks\, reading of the names of those who were executed on this date\, a tolling of the bell\, followed by a chance for the public to bring and lay flowers at the Regulator Marker just as people have done for more than 250 years. \nRepresentatives of Alamance Battleground Historic Site\, elected officials\, descendants of the original Regulators\, and many others are also expected to be present at this popular event. \nThe event is free and open to the public.
URL:https://visithillsboroughnc.com/event/254th-annual-regulator-remembrance-event/
LOCATION:Regulator Historic Site at Cameron Park\, 200 East King Street\, Hillsborough\, 27278
CATEGORIES:Family,Free,History
ATTACH;FMTTYPE=image/jpeg:https://visithillsboroughnc.com/wp-content/uploads/2025/06/Regulator-Marker-by-Scott-Washington.jpg
ORGANIZER;CN="Scott Washington%2C Local Historian":MAILTO:december15bells@gmail.com
GEO:36.0752959;-79.0957543
X-APPLE-STRUCTURED-LOCATION;VALUE=URI;X-ADDRESS=Regulator Historic Site at Cameron Park 200 East King Street Hillsborough 27278;X-APPLE-RADIUS=500;X-TITLE=200 East King Street:geo:-79.0957543,36.0752959
END:VEVENT
END:VCALENDAR