BEGIN:VCALENDAR
VERSION:2.0
PRODID:-//Visit Hillsborough, NC - ECPv6.15.4//NONSGML v1.0//EN
CALSCALE:GREGORIAN
METHOD:PUBLISH
X-WR-CALNAME:Visit Hillsborough, NC
X-ORIGINAL-URL:https://visithillsboroughnc.com
X-WR-CALDESC:Events for Visit Hillsborough, NC
REFRESH-INTERVAL;VALUE=DURATION:PT1H
X-Robots-Tag:noindex
X-PUBLISHED-TTL:PT1H
BEGIN:VTIMEZONE
TZID:America/New_York
BEGIN:DAYLIGHT
TZOFFSETFROM:-0500
TZOFFSETTO:-0400
TZNAME:EDT
DTSTART:20250309T070000
END:DAYLIGHT
BEGIN:STANDARD
TZOFFSETFROM:-0400
TZOFFSETTO:-0500
TZNAME:EST
DTSTART:20251102T060000
END:STANDARD
END:VTIMEZONE
BEGIN:VEVENT
DTSTART;TZID=America/New_York:20251221T140000
DTEND;TZID=America/New_York:20251221T170000
DTSTAMP:20260419T090313
CREATED:20251217T142948Z
LAST-MODIFIED:20251217T142948Z
UID:10014638-1766325600-1766336400@visithillsboroughnc.com
SUMMARY:Classic Film: City Lights
DESCRIPTION:The 1931 Chaplin film\, “City Lights\,” will be shown Sunday\, December 21\, at 2pm at the Orange County Public Library in Hillsborough. Originally scheduled for December 7\, the date was changed to avoid conflict with the town parade. All are welcome; the film and the popcorn are free. For more details go to the website of the Hillsborough Classic Film Society\, hillsboroughclassicfilms.com. \n 
URL:https://visithillsboroughnc.com/event/classic-film-city-lights/
LOCATION:Orange County Main Library\, 137 W. Margaret Ln\, Hillsborough\, NC\, 27278\, United States
CATEGORIES:Film
ORGANIZER;CN="Hillsborough Classic Film Society":MAILTO:gcorrado@aol.com
GEO:36.0742437;-79.1006122
X-APPLE-STRUCTURED-LOCATION;VALUE=URI;X-ADDRESS=Orange County Main Library 137 W. Margaret Ln Hillsborough NC 27278 United States;X-APPLE-RADIUS=500;X-TITLE=137 W. Margaret Ln:geo:-79.1006122,36.0742437
END:VEVENT
END:VCALENDAR