BEGIN:VCALENDAR
VERSION:2.0
PRODID:-//Visit Hillsborough, NC - ECPv6.15.4//NONSGML v1.0//EN
CALSCALE:GREGORIAN
METHOD:PUBLISH
X-ORIGINAL-URL:https://visithillsboroughnc.com
X-WR-CALDESC:Events for Visit Hillsborough, NC
REFRESH-INTERVAL;VALUE=DURATION:PT1H
X-Robots-Tag:noindex
X-PUBLISHED-TTL:PT1H
BEGIN:VTIMEZONE
TZID:America/New_York
BEGIN:DAYLIGHT
TZOFFSETFROM:-0500
TZOFFSETTO:-0400
TZNAME:EDT
DTSTART:20240310T070000
END:DAYLIGHT
BEGIN:STANDARD
TZOFFSETFROM:-0400
TZOFFSETTO:-0500
TZNAME:EST
DTSTART:20241103T060000
END:STANDARD
END:VTIMEZONE
BEGIN:VEVENT
DTSTART;TZID=America/New_York:20240705T180000
DTEND;TZID=America/New_York:20240705T210000
DTSTAMP:20260423T091951
CREATED:20240701T160551Z
LAST-MODIFIED:20240701T160551Z
UID:10007560-1720202400-1720213200@visithillsboroughnc.com
SUMMARY:First Fridays at the Mill: July 2024
DESCRIPTION:BASEMENT\n\nOPENING FRIDAY\, JULY 5\nFIRST FRIDAYS AT THE MILL | 6-9PM \nOpen artist studios with the Eno Arts Mill Studio Artists\nLive Music: Skylar Gudasz\nLocal food truck: Cilantro\nBeer from Red Oak\, Ponysaurus Brewing\, wine\, and NA beer selections\nArt Activity: Free African Paper Dolls with Eno Mill Studio Artists Tiffney Marley and Audrey Pinto\nFree Kids’ Activities \nABOUT THE SHOW \nWestern philosophy defines the body politic as a collective entity imagined as a metaphorical physical body-an embodied system\, ideology\, or practice. In celebration of the 5th anniversary since the formation of BASEMENT Art Space\, an alternative\, experimental\, and socially-oriented artist collective\, Body Politic exhibits the work of the art space’s current members. Collective­ly\, the work of these artists has been the catalyst and genesis of change\, growth\, and the evolution of BASEMENT. \nThis installation contemplates bodies as evidence of politics\, colonialism\, phi­losophy\, and absurdity. Chieko Murasugi reimagines the traditional Japanese kimono\, crafting it with cheesecloth which once wrapped napalm dropped by the United States on Japan during World War II. Chloé Rager collects rem­nants and evidence of the body’s presence\, filling pothole cavities\, gathering queered fragments\, and archiving signs of our existence. Laura Little exam­ines the body from a medicinal perspective\, mining medical archives to create dystopian and liminal perspectives on the US medical system. Her col­lages and altered readymades envision alternative paths for healing the body. \nJonh Blanco\, an undisciplined artist\, employs the body to render useful things useless. Clumping\, leaning onto\, attaching\, and stacking objects\, they narrate \nexplore the lived experiences of the refugee and immigrant narrative. Collec­tively\, these artists materialize the discomfort from our bodies as products or manifestations of US colonialism and failed systems. \nThis exhibition is curated by Julianne Miao in collaboration with Jonh Blanco\, Laura Little\, Chieko Murasugi\, Chloé Rager\, and Hồng-An Trương. \nABOUT BASEMENT \nFounded in 2019\, BASEMENT is a provisional artist-run project space located in Chapel Hill\, NC that supports experimental and critical art practices. We choose to strengthen and build connections between artists and communities specifically in the regional southeast. \nTo us\, working with artists is not only a singular event but is intended to be a long-term commitment to using our platform to uplift each other. We view our support as an important ongoing investment in building relationships with critical art practitioners from and for our local and regional Southern community. \n>>> Learn more about BASEMENT \n\nAbout Skylar Gudasz \nWith her luminous voice and captivating songcraft\, Skylar Gudasz has won the admiration of some of the most distinguished artists in music. In the past few years alone\, the Durham\, North Carolina-based singer/songwriter/multi-instrumentalist has shared stages with the likes of Ray Davies\, Cat Power and Sharon Van Etten as part of the Big Star’s Third tribute concerts\, opened for Television and toured from the US with Teenage Fanclub to Europe with the Mountain Goats\, and appeared as a background vocalist on albums by Superchunk and Hiss Golden Messenger\, making her TV debut with the latter on Late Night with Seth Meyers. \nGudasz is set to release her third full length record in summer 2024. Her previous album\, Cinema\, in April 2020\, was recorded between the famed April Base in Eau Claire\, Wisconsin and in secret studios across the lush forests of the rich NC music scene. This sophomore album was the follow-up to her much praised full-length debut Oleander (a 2016 release\, produced by Chris Stamey\, that prompted The Bitter Southerner to praise her as “the Joni Mitchell the South never had”). \nGrowing up with a musical family in rural Ashland\, Virginia\, Gudasz first found her affinity for music by learning to play flute at age five\, and soon started writing songs of her own. She later taught herself to play piano and guitar\, drawing inspiration from use of alternate tunings in developing her own distinct style. Although she spent time in folk and rock bands after heading to North Carolina for college (where she studied Acting and Creative Writing)\, Gudasz has continued to strike off on her own with her lushly textured\, sculpted singular sound. \n>>> Learn more about Skylar
URL:https://visithillsboroughnc.com/event/first-fridays-at-the-mill-july-2024/
LOCATION:Eno Arts Mill\, 437 Dimmocks Mill Road\, Suite 17\, Hillsborough\, NC\, 27278\, United States
CATEGORIES:Art,Family,Food/Drink,Free,Live Music
ATTACH;FMTTYPE=image/png:https://visithillsboroughnc.com/wp-content/uploads/2024/06/BodyPoliticSquare.png
END:VEVENT
BEGIN:VEVENT
DTSTART;TZID=America/New_York:20240706T100000
DTEND;TZID=America/New_York:20240706T140000
DTSTAMP:20260423T091951
CREATED:20240705T190342Z
LAST-MODIFIED:20240705T190342Z
UID:10007563-1720260000-1720274400@visithillsboroughnc.com
SUMMARY:Saturday Slowdown at RambleRill Farm: July 4 Holiday Weekend
DESCRIPTION:Saturday Slowdown is this Holiday weekend! Shop local makers and growers\, walk the woods and gardens\, enjoy a picnic lunch\, have a chair massage\, make your own bouquet\, create art and crafts\, and hangout with the goats.   7.6.24\, Arthur Minnis Road\, Hillsborough\, NC. 10AM-2PM.\n\nMadison Ave Caterers will offer picnic lunches to enjoy at the farm\, and Wolfe Cravings will have their gluten-free ice cream sandwiches and tiramisu. Chapel Hill Creamery will join us as a new vendor with their delectable farmhouse cheeses. Mud and Blues Pottery returns with their beautiful and functional earthenware. Visit these vendors and others as you Slow Down with us this weekend.
URL:https://visithillsboroughnc.com/event/saturday-slowdown-at-ramblerill-farm-july-4-holiday-weekend/
LOCATION:Ramble Rill Farm\, 913 Arthur Minnis Road\, Hillsborough\, NC\, 27516\, United States
CATEGORIES:Agritourism,Family,Food/Drink,Free,Recreation
GEO:35.9948567;-79.1258582
X-APPLE-STRUCTURED-LOCATION;VALUE=URI;X-ADDRESS=Ramble Rill Farm 913 Arthur Minnis Road Hillsborough NC 27516 United States;X-APPLE-RADIUS=500;X-TITLE=913 Arthur Minnis Road:geo:-79.1258582,35.9948567
END:VEVENT
BEGIN:VEVENT
DTSTART;TZID=America/New_York:20240726T173000
DTEND;TZID=America/New_York:20240726T210000
DTSTAMP:20260423T091951
CREATED:20240403T123920Z
LAST-MODIFIED:20240403T123920Z
UID:10006775-1722015000-1722027600@visithillsboroughnc.com
SUMMARY:2024 Last Fridays & the Art Walk!
DESCRIPTION:March – November\, Last Fridays & the Art Walk are FREE monthly events celebrating art\, culture\, & community in Hillsborough\, NC\, featuring: \n  \n\nThe Art Walk (Year-round) – 20+ venues offering exciting exhibitions\, live music\, family-friendly activities\, and more.\nRoaming Poets (March-November) – A lineup of local poets\, storytellers\, and spoken word artists stopping at multiple Art Walk venues throughout the evening.\nLiving Arts (March-November) – Drumming\, dance\, and other interactive opportunities to connect with nature and community with the Living Arts Collective in River Park.\nMakers Markets (May-October) – Local artists\, community groups\, live music\, special programming\, family activities\, and crafts on the Old Courthouse Lawn.\n\nLearn more about each monthly event lineup at www.lastfridays.org! *Details on this page are generally finalized the week before each Last Friday event.
URL:https://visithillsboroughnc.com/event/2024-last-fridays-the-art-walk/2024-07-26/
LOCATION:Downtown Historic Hillsborough\, 101 S Churton Street\, Hillsborough\, NC\, 27278
CATEGORIES:Art,Dance,Family,Free,Live Music,Outdoor
ATTACH;FMTTYPE=image/png:https://visithillsboroughnc.com/wp-content/uploads/2024/04/2024-LFAW-Event-Cover.png
END:VEVENT
END:VCALENDAR