BEGIN:VCALENDAR
VERSION:2.0
PRODID:-//Visit Hillsborough, NC - ECPv6.15.4//NONSGML v1.0//EN
CALSCALE:GREGORIAN
METHOD:PUBLISH
X-ORIGINAL-URL:https://visithillsboroughnc.com
X-WR-CALDESC:Events for Visit Hillsborough, NC
REFRESH-INTERVAL;VALUE=DURATION:PT1H
X-Robots-Tag:noindex
X-PUBLISHED-TTL:PT1H
BEGIN:VTIMEZONE
TZID:America/New_York
BEGIN:DAYLIGHT
TZOFFSETFROM:-0500
TZOFFSETTO:-0400
TZNAME:EDT
DTSTART:20250309T070000
END:DAYLIGHT
BEGIN:STANDARD
TZOFFSETFROM:-0400
TZOFFSETTO:-0500
TZNAME:EST
DTSTART:20251102T060000
END:STANDARD
END:VTIMEZONE
BEGIN:VEVENT
DTSTART;TZID=America/New_York:20250206T173000
DTEND;TZID=America/New_York:20250206T190000
DTSTAMP:20260420T075632
CREATED:20250108T154524Z
LAST-MODIFIED:20250122T191511Z
UID:10008124-1738863000-1738868400@visithillsboroughnc.com
SUMMARY:Stories that Connect Us
DESCRIPTION:A Community Conversation on Telling the Full Story \nDiscover the stories that shape our community in a special four-part conversation series! Hosted by the Alliance for Historic Hillsborough and the Telling the Full Story committee\, each session dives into the history of local sites from our interactive map\, with engaging video presentations and oral histories that bring these places to life. Join us for lively discussions and reflections on the impact of these spaces in Hillsborough. \nMark your calendar for Thursday evenings in February 2025\, 5:30–7:00 PM at the Passmore Center in Hillsborough\, NC. Come to learn\, connect\, and be inspired—see you there! \nRegistration is not required\, but it is encouraged. Click here to register: https://www.zeffy.com/ticketing/the-stories-that-connect-us-series \nWhat is Telling the Full Story: The Alliance for Historic Hillsborough’s Telling the Full Story program seeks to uncover and share the diverse\, often untold histories of Hillsborough. Through community conversations\, interactive maps\, and oral histories\, this program invites everyone to explore the people\, events\, and places that have shaped our community\, fostering a richer understanding of our shared heritage. \nFebruary 6th: Entrepreneurship in the 20th Century  \nExplore the rich history of local entrepreneurship in the 20th century during this engaging session of the Telling the Full Story Conversation Series. Committee members will spotlight three important sites: the Warner Complex\, Shanklin Press\, and Faribault BBQ. Through oral history videos and lively discussions\, attendees will learn about the impact of these businesses on our community’s economy and culture. \nFebruary 13th: The Land Remembers \nUncover the deep historical connections between land and memory. The conversation will focus on three significant sites: Margaret Lane Cemetery\, the Mayo Rock Quarry\, and the Occaneechi Replica Village. Through video presentations and insightful discussions\, attendees will learn how these places carry stories of resilience\, culture\, and history that continue to shape our community today.  \nFebruary 20th: Community Institutions \nDiscover the vital role of community institutions in shaping local history. Focused on Dickerson Chapel AME Church and the former Central High School\, which also hosted Agnes Kindergarten\, attendees will learn about the central place these institutions held in the lives of African Americans in the area. Through oral histories and lively discussion\, we will explore how these sites fostered education\, faith\, and community during a time of segregation and change. \nFebruary 27th: Navigating Freedom\nExamine the theme of freedom through the lives of those who navigated and shaped it in our community. Featured stories will include the life of Jesse Ruffin\, a key figure in local history\, and the Midwives Retirement Community\, which became a haven for trailblazing women like Peggy Faribault and Fanny Breeze. Through oral histories and thoughtful conversation\, attendees will learn how these individuals and places played a crucial role in fostering freedom\, independence\, and resilience.
URL:https://visithillsboroughnc.com/event/stories-that-connect-us/2025-02-06/
LOCATION:Passmore Center\, 103 Meadowlands Dr. \, Hillsborough\, NC\, 27278\, United States
CATEGORIES:Free,History
ATTACH;FMTTYPE=image/png:https://visithillsboroughnc.com/wp-content/uploads/2025/01/1.png
GEO:36.0630504;-79.0775525
X-APPLE-STRUCTURED-LOCATION;VALUE=URI;X-ADDRESS=Passmore Center 103 Meadowlands Dr.  Hillsborough NC 27278 United States;X-APPLE-RADIUS=500;X-TITLE=103 Meadowlands Dr.:geo:-79.0775525,36.0630504
END:VEVENT
BEGIN:VEVENT
DTSTART;VALUE=DATE:20250207
DTEND;VALUE=DATE:20250209
DTSTAMP:20260420T075632
CREATED:20250205T183302Z
LAST-MODIFIED:20250205T183302Z
UID:10008224-1738893600-1738979999@visithillsboroughnc.com
SUMMARY:Pete the Cat: Original Art by James Dean
DESCRIPTION:“Pete the Cat: Original Art by James Dean” on view in Hillsborough\, NC\, 1/3/25 through 4/3/25\nHillsborough\, NC – The Alliance for Historic Hillsborough and Mike’s Art Truck are excited to present “Pete the Cat: Original Art by James Dean.” This selection of Dean’s popular “CAT-themed” paintings will be on display from January 3 through April 3\, 2025\, at the Alexander Dickson House\, the historic building which houses the Hillsborough Visitors Center. \nArtist James Dean\, self-taught creator of that iconic blue feline\, Pete the Cat\, graciously shares a unique collection of his original paintings in this exhibition. The show is expected to confirm once again that “Everybody Loves Pete.” Exhibition artwork is available for purchase directly through Mike’s Art Truck. For information email mikesarttruck@centurylink.net\, or visit their website at www.mikesarttruck.com. All of the exhibition artwork can be viewed on the same website. \nThe Alexander Dickson House and Hillsborough Visitors Center is located at 150 E. King St.\, in downtown Hillsborough\, NC. Admission to the exhibit is free and open to the public during regular visitor hours. Free parking is available. For more information about Historic Hillsborough\, including the Visitors Center\, please visit http://www.visithillsboroughnc.com.
URL:https://visithillsboroughnc.com/event/pete-the-cat-original-art-by-james-dean/2025-02-07/
LOCATION:Hillsborough Visitors Center\, 150 E King Street\, Hillsborough\, NC\, 27278\, United States
CATEGORIES:Art,Free
ATTACH;FMTTYPE=image/jpeg:https://visithillsboroughnc.com/wp-content/uploads/2025/02/Dean-Stars-and-Stripes-Van.jpeg
ORGANIZER;CN="Mike's Art Truck":MAILTO:mikesarttruck@centurylink.net
GEO:36.0750273;-79.0966848
X-APPLE-STRUCTURED-LOCATION;VALUE=URI;X-ADDRESS=Hillsborough Visitors Center 150 E King Street Hillsborough NC 27278 United States;X-APPLE-RADIUS=500;X-TITLE=150 E King Street:geo:-79.0966848,36.0750273
END:VEVENT
BEGIN:VEVENT
DTSTART;TZID=America/New_York:20250213T173000
DTEND;TZID=America/New_York:20250213T190000
DTSTAMP:20260420T075632
CREATED:20250108T154524Z
LAST-MODIFIED:20250122T191511Z
UID:10008125-1739467800-1739473200@visithillsboroughnc.com
SUMMARY:Stories that Connect Us
DESCRIPTION:A Community Conversation on Telling the Full Story \nDiscover the stories that shape our community in a special four-part conversation series! Hosted by the Alliance for Historic Hillsborough and the Telling the Full Story committee\, each session dives into the history of local sites from our interactive map\, with engaging video presentations and oral histories that bring these places to life. Join us for lively discussions and reflections on the impact of these spaces in Hillsborough. \nMark your calendar for Thursday evenings in February 2025\, 5:30–7:00 PM at the Passmore Center in Hillsborough\, NC. Come to learn\, connect\, and be inspired—see you there! \nRegistration is not required\, but it is encouraged. Click here to register: https://www.zeffy.com/ticketing/the-stories-that-connect-us-series \nWhat is Telling the Full Story: The Alliance for Historic Hillsborough’s Telling the Full Story program seeks to uncover and share the diverse\, often untold histories of Hillsborough. Through community conversations\, interactive maps\, and oral histories\, this program invites everyone to explore the people\, events\, and places that have shaped our community\, fostering a richer understanding of our shared heritage. \nFebruary 6th: Entrepreneurship in the 20th Century  \nExplore the rich history of local entrepreneurship in the 20th century during this engaging session of the Telling the Full Story Conversation Series. Committee members will spotlight three important sites: the Warner Complex\, Shanklin Press\, and Faribault BBQ. Through oral history videos and lively discussions\, attendees will learn about the impact of these businesses on our community’s economy and culture. \nFebruary 13th: The Land Remembers \nUncover the deep historical connections between land and memory. The conversation will focus on three significant sites: Margaret Lane Cemetery\, the Mayo Rock Quarry\, and the Occaneechi Replica Village. Through video presentations and insightful discussions\, attendees will learn how these places carry stories of resilience\, culture\, and history that continue to shape our community today.  \nFebruary 20th: Community Institutions \nDiscover the vital role of community institutions in shaping local history. Focused on Dickerson Chapel AME Church and the former Central High School\, which also hosted Agnes Kindergarten\, attendees will learn about the central place these institutions held in the lives of African Americans in the area. Through oral histories and lively discussion\, we will explore how these sites fostered education\, faith\, and community during a time of segregation and change. \nFebruary 27th: Navigating Freedom\nExamine the theme of freedom through the lives of those who navigated and shaped it in our community. Featured stories will include the life of Jesse Ruffin\, a key figure in local history\, and the Midwives Retirement Community\, which became a haven for trailblazing women like Peggy Faribault and Fanny Breeze. Through oral histories and thoughtful conversation\, attendees will learn how these individuals and places played a crucial role in fostering freedom\, independence\, and resilience.
URL:https://visithillsboroughnc.com/event/stories-that-connect-us/2025-02-13/
LOCATION:Passmore Center\, 103 Meadowlands Dr. \, Hillsborough\, NC\, 27278\, United States
CATEGORIES:Free,History
ATTACH;FMTTYPE=image/png:https://visithillsboroughnc.com/wp-content/uploads/2025/01/1.png
GEO:36.0630504;-79.0775525
X-APPLE-STRUCTURED-LOCATION;VALUE=URI;X-ADDRESS=Passmore Center 103 Meadowlands Dr.  Hillsborough NC 27278 United States;X-APPLE-RADIUS=500;X-TITLE=103 Meadowlands Dr.:geo:-79.0775525,36.0630504
END:VEVENT
BEGIN:VEVENT
DTSTART;VALUE=DATE:20250214
DTEND;VALUE=DATE:20250216
DTSTAMP:20260420T075632
CREATED:20250205T183302Z
LAST-MODIFIED:20250205T183302Z
UID:10008225-1739498400-1739584799@visithillsboroughnc.com
SUMMARY:Pete the Cat: Original Art by James Dean
DESCRIPTION:“Pete the Cat: Original Art by James Dean” on view in Hillsborough\, NC\, 1/3/25 through 4/3/25\nHillsborough\, NC – The Alliance for Historic Hillsborough and Mike’s Art Truck are excited to present “Pete the Cat: Original Art by James Dean.” This selection of Dean’s popular “CAT-themed” paintings will be on display from January 3 through April 3\, 2025\, at the Alexander Dickson House\, the historic building which houses the Hillsborough Visitors Center. \nArtist James Dean\, self-taught creator of that iconic blue feline\, Pete the Cat\, graciously shares a unique collection of his original paintings in this exhibition. The show is expected to confirm once again that “Everybody Loves Pete.” Exhibition artwork is available for purchase directly through Mike’s Art Truck. For information email mikesarttruck@centurylink.net\, or visit their website at www.mikesarttruck.com. All of the exhibition artwork can be viewed on the same website. \nThe Alexander Dickson House and Hillsborough Visitors Center is located at 150 E. King St.\, in downtown Hillsborough\, NC. Admission to the exhibit is free and open to the public during regular visitor hours. Free parking is available. For more information about Historic Hillsborough\, including the Visitors Center\, please visit http://www.visithillsboroughnc.com.
URL:https://visithillsboroughnc.com/event/pete-the-cat-original-art-by-james-dean/2025-02-14/
LOCATION:Hillsborough Visitors Center\, 150 E King Street\, Hillsborough\, NC\, 27278\, United States
CATEGORIES:Art,Free
ATTACH;FMTTYPE=image/jpeg:https://visithillsboroughnc.com/wp-content/uploads/2025/02/Dean-Stars-and-Stripes-Van.jpeg
ORGANIZER;CN="Mike's Art Truck":MAILTO:mikesarttruck@centurylink.net
GEO:36.0750273;-79.0966848
X-APPLE-STRUCTURED-LOCATION;VALUE=URI;X-ADDRESS=Hillsborough Visitors Center 150 E King Street Hillsborough NC 27278 United States;X-APPLE-RADIUS=500;X-TITLE=150 E King Street:geo:-79.0966848,36.0750273
END:VEVENT
BEGIN:VEVENT
DTSTART;TZID=America/New_York:20250220T173000
DTEND;TZID=America/New_York:20250220T190000
DTSTAMP:20260420T075632
CREATED:20250108T154524Z
LAST-MODIFIED:20250122T191511Z
UID:10008126-1740072600-1740078000@visithillsboroughnc.com
SUMMARY:Stories that Connect Us
DESCRIPTION:A Community Conversation on Telling the Full Story \nDiscover the stories that shape our community in a special four-part conversation series! Hosted by the Alliance for Historic Hillsborough and the Telling the Full Story committee\, each session dives into the history of local sites from our interactive map\, with engaging video presentations and oral histories that bring these places to life. Join us for lively discussions and reflections on the impact of these spaces in Hillsborough. \nMark your calendar for Thursday evenings in February 2025\, 5:30–7:00 PM at the Passmore Center in Hillsborough\, NC. Come to learn\, connect\, and be inspired—see you there! \nRegistration is not required\, but it is encouraged. Click here to register: https://www.zeffy.com/ticketing/the-stories-that-connect-us-series \nWhat is Telling the Full Story: The Alliance for Historic Hillsborough’s Telling the Full Story program seeks to uncover and share the diverse\, often untold histories of Hillsborough. Through community conversations\, interactive maps\, and oral histories\, this program invites everyone to explore the people\, events\, and places that have shaped our community\, fostering a richer understanding of our shared heritage. \nFebruary 6th: Entrepreneurship in the 20th Century  \nExplore the rich history of local entrepreneurship in the 20th century during this engaging session of the Telling the Full Story Conversation Series. Committee members will spotlight three important sites: the Warner Complex\, Shanklin Press\, and Faribault BBQ. Through oral history videos and lively discussions\, attendees will learn about the impact of these businesses on our community’s economy and culture. \nFebruary 13th: The Land Remembers \nUncover the deep historical connections between land and memory. The conversation will focus on three significant sites: Margaret Lane Cemetery\, the Mayo Rock Quarry\, and the Occaneechi Replica Village. Through video presentations and insightful discussions\, attendees will learn how these places carry stories of resilience\, culture\, and history that continue to shape our community today.  \nFebruary 20th: Community Institutions \nDiscover the vital role of community institutions in shaping local history. Focused on Dickerson Chapel AME Church and the former Central High School\, which also hosted Agnes Kindergarten\, attendees will learn about the central place these institutions held in the lives of African Americans in the area. Through oral histories and lively discussion\, we will explore how these sites fostered education\, faith\, and community during a time of segregation and change. \nFebruary 27th: Navigating Freedom\nExamine the theme of freedom through the lives of those who navigated and shaped it in our community. Featured stories will include the life of Jesse Ruffin\, a key figure in local history\, and the Midwives Retirement Community\, which became a haven for trailblazing women like Peggy Faribault and Fanny Breeze. Through oral histories and thoughtful conversation\, attendees will learn how these individuals and places played a crucial role in fostering freedom\, independence\, and resilience.
URL:https://visithillsboroughnc.com/event/stories-that-connect-us/2025-02-20/
LOCATION:Passmore Center\, 103 Meadowlands Dr. \, Hillsborough\, NC\, 27278\, United States
CATEGORIES:Free,History
ATTACH;FMTTYPE=image/png:https://visithillsboroughnc.com/wp-content/uploads/2025/01/1.png
GEO:36.0630504;-79.0775525
X-APPLE-STRUCTURED-LOCATION;VALUE=URI;X-ADDRESS=Passmore Center 103 Meadowlands Dr.  Hillsborough NC 27278 United States;X-APPLE-RADIUS=500;X-TITLE=103 Meadowlands Dr.:geo:-79.0775525,36.0630504
END:VEVENT
BEGIN:VEVENT
DTSTART;VALUE=DATE:20250221
DTEND;VALUE=DATE:20250223
DTSTAMP:20260420T075632
CREATED:20250205T183302Z
LAST-MODIFIED:20250205T183302Z
UID:10008226-1740103200-1740189599@visithillsboroughnc.com
SUMMARY:Pete the Cat: Original Art by James Dean
DESCRIPTION:“Pete the Cat: Original Art by James Dean” on view in Hillsborough\, NC\, 1/3/25 through 4/3/25\nHillsborough\, NC – The Alliance for Historic Hillsborough and Mike’s Art Truck are excited to present “Pete the Cat: Original Art by James Dean.” This selection of Dean’s popular “CAT-themed” paintings will be on display from January 3 through April 3\, 2025\, at the Alexander Dickson House\, the historic building which houses the Hillsborough Visitors Center. \nArtist James Dean\, self-taught creator of that iconic blue feline\, Pete the Cat\, graciously shares a unique collection of his original paintings in this exhibition. The show is expected to confirm once again that “Everybody Loves Pete.” Exhibition artwork is available for purchase directly through Mike’s Art Truck. For information email mikesarttruck@centurylink.net\, or visit their website at www.mikesarttruck.com. All of the exhibition artwork can be viewed on the same website. \nThe Alexander Dickson House and Hillsborough Visitors Center is located at 150 E. King St.\, in downtown Hillsborough\, NC. Admission to the exhibit is free and open to the public during regular visitor hours. Free parking is available. For more information about Historic Hillsborough\, including the Visitors Center\, please visit http://www.visithillsboroughnc.com.
URL:https://visithillsboroughnc.com/event/pete-the-cat-original-art-by-james-dean/2025-02-21/
LOCATION:Hillsborough Visitors Center\, 150 E King Street\, Hillsborough\, NC\, 27278\, United States
CATEGORIES:Art,Free
ATTACH;FMTTYPE=image/jpeg:https://visithillsboroughnc.com/wp-content/uploads/2025/02/Dean-Stars-and-Stripes-Van.jpeg
ORGANIZER;CN="Mike's Art Truck":MAILTO:mikesarttruck@centurylink.net
GEO:36.0750273;-79.0966848
X-APPLE-STRUCTURED-LOCATION;VALUE=URI;X-ADDRESS=Hillsborough Visitors Center 150 E King Street Hillsborough NC 27278 United States;X-APPLE-RADIUS=500;X-TITLE=150 E King Street:geo:-79.0966848,36.0750273
END:VEVENT
BEGIN:VEVENT
DTSTART;TZID=America/New_York:20250227T173000
DTEND;TZID=America/New_York:20250227T190000
DTSTAMP:20260420T075632
CREATED:20250108T154524Z
LAST-MODIFIED:20250122T191511Z
UID:10008127-1740677400-1740682800@visithillsboroughnc.com
SUMMARY:Stories that Connect Us
DESCRIPTION:A Community Conversation on Telling the Full Story \nDiscover the stories that shape our community in a special four-part conversation series! Hosted by the Alliance for Historic Hillsborough and the Telling the Full Story committee\, each session dives into the history of local sites from our interactive map\, with engaging video presentations and oral histories that bring these places to life. Join us for lively discussions and reflections on the impact of these spaces in Hillsborough. \nMark your calendar for Thursday evenings in February 2025\, 5:30–7:00 PM at the Passmore Center in Hillsborough\, NC. Come to learn\, connect\, and be inspired—see you there! \nRegistration is not required\, but it is encouraged. Click here to register: https://www.zeffy.com/ticketing/the-stories-that-connect-us-series \nWhat is Telling the Full Story: The Alliance for Historic Hillsborough’s Telling the Full Story program seeks to uncover and share the diverse\, often untold histories of Hillsborough. Through community conversations\, interactive maps\, and oral histories\, this program invites everyone to explore the people\, events\, and places that have shaped our community\, fostering a richer understanding of our shared heritage. \nFebruary 6th: Entrepreneurship in the 20th Century  \nExplore the rich history of local entrepreneurship in the 20th century during this engaging session of the Telling the Full Story Conversation Series. Committee members will spotlight three important sites: the Warner Complex\, Shanklin Press\, and Faribault BBQ. Through oral history videos and lively discussions\, attendees will learn about the impact of these businesses on our community’s economy and culture. \nFebruary 13th: The Land Remembers \nUncover the deep historical connections between land and memory. The conversation will focus on three significant sites: Margaret Lane Cemetery\, the Mayo Rock Quarry\, and the Occaneechi Replica Village. Through video presentations and insightful discussions\, attendees will learn how these places carry stories of resilience\, culture\, and history that continue to shape our community today.  \nFebruary 20th: Community Institutions \nDiscover the vital role of community institutions in shaping local history. Focused on Dickerson Chapel AME Church and the former Central High School\, which also hosted Agnes Kindergarten\, attendees will learn about the central place these institutions held in the lives of African Americans in the area. Through oral histories and lively discussion\, we will explore how these sites fostered education\, faith\, and community during a time of segregation and change. \nFebruary 27th: Navigating Freedom\nExamine the theme of freedom through the lives of those who navigated and shaped it in our community. Featured stories will include the life of Jesse Ruffin\, a key figure in local history\, and the Midwives Retirement Community\, which became a haven for trailblazing women like Peggy Faribault and Fanny Breeze. Through oral histories and thoughtful conversation\, attendees will learn how these individuals and places played a crucial role in fostering freedom\, independence\, and resilience.
URL:https://visithillsboroughnc.com/event/stories-that-connect-us/2025-02-27/
LOCATION:Passmore Center\, 103 Meadowlands Dr. \, Hillsborough\, NC\, 27278\, United States
CATEGORIES:Free,History
ATTACH;FMTTYPE=image/png:https://visithillsboroughnc.com/wp-content/uploads/2025/01/1.png
GEO:36.0630504;-79.0775525
X-APPLE-STRUCTURED-LOCATION;VALUE=URI;X-ADDRESS=Passmore Center 103 Meadowlands Dr.  Hillsborough NC 27278 United States;X-APPLE-RADIUS=500;X-TITLE=103 Meadowlands Dr.:geo:-79.0775525,36.0630504
END:VEVENT
BEGIN:VEVENT
DTSTART;VALUE=DATE:20250228
DTEND;VALUE=DATE:20250302
DTSTAMP:20260420T075632
CREATED:20250205T183302Z
LAST-MODIFIED:20250205T183302Z
UID:10008227-1740708000-1740794399@visithillsboroughnc.com
SUMMARY:Pete the Cat: Original Art by James Dean
DESCRIPTION:“Pete the Cat: Original Art by James Dean” on view in Hillsborough\, NC\, 1/3/25 through 4/3/25\nHillsborough\, NC – The Alliance for Historic Hillsborough and Mike’s Art Truck are excited to present “Pete the Cat: Original Art by James Dean.” This selection of Dean’s popular “CAT-themed” paintings will be on display from January 3 through April 3\, 2025\, at the Alexander Dickson House\, the historic building which houses the Hillsborough Visitors Center. \nArtist James Dean\, self-taught creator of that iconic blue feline\, Pete the Cat\, graciously shares a unique collection of his original paintings in this exhibition. The show is expected to confirm once again that “Everybody Loves Pete.” Exhibition artwork is available for purchase directly through Mike’s Art Truck. For information email mikesarttruck@centurylink.net\, or visit their website at www.mikesarttruck.com. All of the exhibition artwork can be viewed on the same website. \nThe Alexander Dickson House and Hillsborough Visitors Center is located at 150 E. King St.\, in downtown Hillsborough\, NC. Admission to the exhibit is free and open to the public during regular visitor hours. Free parking is available. For more information about Historic Hillsborough\, including the Visitors Center\, please visit http://www.visithillsboroughnc.com.
URL:https://visithillsboroughnc.com/event/pete-the-cat-original-art-by-james-dean/2025-02-28/
LOCATION:Hillsborough Visitors Center\, 150 E King Street\, Hillsborough\, NC\, 27278\, United States
CATEGORIES:Art,Free
ATTACH;FMTTYPE=image/jpeg:https://visithillsboroughnc.com/wp-content/uploads/2025/02/Dean-Stars-and-Stripes-Van.jpeg
ORGANIZER;CN="Mike's Art Truck":MAILTO:mikesarttruck@centurylink.net
GEO:36.0750273;-79.0966848
X-APPLE-STRUCTURED-LOCATION;VALUE=URI;X-ADDRESS=Hillsborough Visitors Center 150 E King Street Hillsborough NC 27278 United States;X-APPLE-RADIUS=500;X-TITLE=150 E King Street:geo:-79.0966848,36.0750273
END:VEVENT
END:VCALENDAR