BEGIN:VCALENDAR
VERSION:2.0
PRODID:-//Visit Hillsborough, NC - ECPv6.15.4//NONSGML v1.0//EN
CALSCALE:GREGORIAN
METHOD:PUBLISH
X-WR-CALNAME:Visit Hillsborough, NC
X-ORIGINAL-URL:https://visithillsboroughnc.com
X-WR-CALDESC:Events for Visit Hillsborough, NC
REFRESH-INTERVAL;VALUE=DURATION:PT1H
X-Robots-Tag:noindex
X-PUBLISHED-TTL:PT1H
BEGIN:VTIMEZONE
TZID:America/New_York
BEGIN:DAYLIGHT
TZOFFSETFROM:-0500
TZOFFSETTO:-0400
TZNAME:EDT
DTSTART:20260308T070000
END:DAYLIGHT
BEGIN:STANDARD
TZOFFSETFROM:-0400
TZOFFSETTO:-0500
TZNAME:EST
DTSTART:20261101T060000
END:STANDARD
END:VTIMEZONE
BEGIN:VEVENT
DTSTART;TZID=America/New_York:20260404T080000
DTEND;TZID=America/New_York:20260404T180000
DTSTAMP:20260422T170123
CREATED:20260106T151710Z
LAST-MODIFIED:20260106T151710Z
UID:10014649-1775289600-1775325600@visithillsboroughnc.com
SUMMARY:Open Farm Day at Firefly Farm
DESCRIPTION:You are invited to the Open Farm Day at Firefly Farm . Saturday\, April 4\, 2026\, 8 am till 6 pm. This free event is the perfect opportunity to see what we are growing. We are a U-pick flower farm growing many varieties of flowers. Come out and wander the farm and pet the animals. \nSchedule of Events for Open Farm Day at Firefly Farm \nNo ticket needed – free event\, open to the public \n8 am – Gates open. Farmer Cindy and staff will be available to answer any questions you may have. Wander the farm – be our guest! While the wildflowers are not ready for the U-pick season yet\, this is a great time to see what the farm has to offer. Select flowers will be available for purchase and we may have a special opportunity for U-pick tulips. Park at the barn or in the overflow lot (follow the yellow signs). Check in at the barn to begin your adventure (map available). Walk the labyrinth. Say hello to the farm animals and the unicorn. Swing on the farm swing. Touch a tractor. Find a hammock and take a nap while the kids make a craft. Enjoy the fresh air and run around outside. Make it your day. \nSpecial activity: Farm tours will occur at 10 am\, noon\, 2 pm and 4 pm. Meet Farmer Cindy at the barn and she will lead you around some of the flower gardens and discuss what is happening on the farm. Feel free to ask questions. During the 10 am and 4 pm tours\, we will feed the animals! \nVendors will be on site. Plan on buying some delicious food and sweets\, finding your favorite spot on the farm\, and having a picnic on a beautiful Spring day! \n6 pm – Gates close. Thank you for joining us! www.fireflyfarmnc.com
URL:https://visithillsboroughnc.com/event/open-farm-day-at-firefly-farm/
LOCATION:Firefly Farm\, 4911 Hunt Rd\, Hillsborough\, NC\, 27278\, United States
CATEGORIES:Agritourism,Family,Food/Drink,Free,Gardens/Gardening,Hiking,Kids,Outdoor
ATTACH;FMTTYPE=image/jpeg:https://visithillsboroughnc.com/wp-content/uploads/2025/12/springfireflyfarm.jpg
ORGANIZER;CN="Firefly Farm":MAILTO:fireflyfarm2015@gmail.com
END:VEVENT
END:VCALENDAR