BEGIN:VCALENDAR
VERSION:2.0
PRODID:-//Visit Hillsborough, NC - ECPv6.15.4//NONSGML v1.0//EN
CALSCALE:GREGORIAN
METHOD:PUBLISH
X-WR-CALNAME:Visit Hillsborough, NC
X-ORIGINAL-URL:https://visithillsboroughnc.com
X-WR-CALDESC:Events for Visit Hillsborough, NC
REFRESH-INTERVAL;VALUE=DURATION:PT1H
X-Robots-Tag:noindex
X-PUBLISHED-TTL:PT1H
BEGIN:VTIMEZONE
TZID:America/New_York
BEGIN:DAYLIGHT
TZOFFSETFROM:-0500
TZOFFSETTO:-0400
TZNAME:EDT
DTSTART:20250309T070000
END:DAYLIGHT
BEGIN:STANDARD
TZOFFSETFROM:-0400
TZOFFSETTO:-0500
TZNAME:EST
DTSTART:20251102T060000
END:STANDARD
END:VTIMEZONE
BEGIN:VEVENT
DTSTART;TZID=America/New_York:20251129T120000
DTEND;TZID=America/New_York:20251129T170000
DTSTAMP:20260425T100007
CREATED:20251103T150317Z
LAST-MODIFIED:20251103T150317Z
UID:10013823-1764417600-1764435600@visithillsboroughnc.com
SUMMARY:St Andrews Day in Saltire Gallerie
DESCRIPTION:Saltire Gallerie celebrates St Andrews Day\, for Saint Andrew of Scotland \nJoin us to mark this Scottish holiday with our first seasonal sale of Scottish fine art. Our collection spans centuries and styles\, from naturalistic Highland landscapes to post impressionist Scottish Colourist\, and more!  Find your treasure or your special gift. Light repast and Scottish seasonal theme in the James Hogg house circa 1781.\nParking available on site and nearby.
URL:https://visithillsboroughnc.com/event/st-andrews-day-in-saltire-gallerie/2025-11-29/
LOCATION:Saltire Gallerie\, 209 Burnside Dr\, Hillsborough\, NC\, 27278\, United States
CATEGORIES:Art,History,Holidays,Shopping
ATTACH;FMTTYPE=image/jpeg:https://visithillsboroughnc.com/wp-content/uploads/2025/11/IMG_0987-scaled.jpeg
END:VEVENT
END:VCALENDAR