BEGIN:VCALENDAR
VERSION:2.0
PRODID:-//Visit Hillsborough, NC - ECPv6.15.4//NONSGML v1.0//EN
CALSCALE:GREGORIAN
METHOD:PUBLISH
X-ORIGINAL-URL:https://visithillsboroughnc.com
X-WR-CALDESC:Events for Visit Hillsborough, NC
REFRESH-INTERVAL;VALUE=DURATION:PT1H
X-Robots-Tag:noindex
X-PUBLISHED-TTL:PT1H
BEGIN:VTIMEZONE
TZID:America/New_York
BEGIN:DAYLIGHT
TZOFFSETFROM:-0500
TZOFFSETTO:-0400
TZNAME:EDT
DTSTART:20240310T070000
END:DAYLIGHT
BEGIN:STANDARD
TZOFFSETFROM:-0400
TZOFFSETTO:-0500
TZNAME:EST
DTSTART:20241103T060000
END:STANDARD
END:VTIMEZONE
BEGIN:VEVENT
DTSTART;VALUE=DATE:20241101
DTEND;VALUE=DATE:20241103
DTSTAMP:20260421T172312
CREATED:20241024T142713Z
LAST-MODIFIED:20241024T142935Z
UID:10007726-1730426400-1730512799@visithillsboroughnc.com
SUMMARY:2024 Homes for the Holidays Hillsborough Gingerbread Competition Registration Open
DESCRIPTION:The annual walking tour of unconventional gingerbread exhibits returns to Hillsborough’s downtown shop windows this holiday season from December 7 to January 5.  The event celebrates artistic sculpture: creations can be made of any material as long as the visible elements are edible. The public is invited to submit creative interpretations of this year’s theme\, “Winter Wonderland” within the Adult or Youth & Family categories; registration is open Nov. 1-27. Voting for People’s Choice Awards will take place through Dec 20 and winners will be announced at the town’s Solstice Lantern Walk on Dec 21.  \n 
URL:https://visithillsboroughnc.com/event/2024-homes-for-the-holidays-hillsborough-gingerbread-competition-registration-open/2024-11-01/
CATEGORIES:Family,Holidays
ATTACH;FMTTYPE=image/png:https://visithillsboroughnc.com/wp-content/uploads/2024/10/2024-HFTH-Flyer.png
END:VEVENT
END:VCALENDAR