BEGIN:VCALENDAR
VERSION:2.0
PRODID:-//Visit Hillsborough, NC - ECPv6.15.4//NONSGML v1.0//EN
CALSCALE:GREGORIAN
METHOD:PUBLISH
X-ORIGINAL-URL:https://visithillsboroughnc.com
X-WR-CALDESC:Events for Visit Hillsborough, NC
REFRESH-INTERVAL;VALUE=DURATION:PT1H
X-Robots-Tag:noindex
X-PUBLISHED-TTL:PT1H
BEGIN:VTIMEZONE
TZID:America/New_York
BEGIN:DAYLIGHT
TZOFFSETFROM:-0500
TZOFFSETTO:-0400
TZNAME:EDT
DTSTART:20240310T070000
END:DAYLIGHT
BEGIN:STANDARD
TZOFFSETFROM:-0400
TZOFFSETTO:-0500
TZNAME:EST
DTSTART:20241103T060000
END:STANDARD
END:VTIMEZONE
BEGIN:VEVENT
DTSTART;VALUE=DATE:20241207
DTEND;VALUE=DATE:20241209
DTSTAMP:20260425T070146
CREATED:20241024T142824Z
LAST-MODIFIED:20241024T142824Z
UID:10007727-1733536800-1733623199@visithillsboroughnc.com
SUMMARY:2024 Homes for the Holidays Hillsborough Gingerbread Creations On Display
DESCRIPTION:The annual walking tour of unconventional gingerbread exhibits returns to Hillsborough’s downtown shop windows this holiday season from December 7 to January 5.  The event celebrates artistic sculpture: creations can be made of any material as long as the visible elements are edible. The public is invited to submit creative interpretations of this year’s theme\, “Winter Wonderland” within the Adult or Youth & Family categories; registration is open Nov. 1-27. Voting for People’s Choice Awards will take place through Dec 20 and winners will be announced at the town’s Solstice Lantern Walk on Dec 21.  \n 
URL:https://visithillsboroughnc.com/event/2024-homes-for-the-holidays-hillsborough-gingerbread-creations-on-display/2024-12-07/
LOCATION:Downtown Historic Hillsborough\, 101 S Churton Street\, Hillsborough\, NC\, 27278
CATEGORIES:Family,Holidays
ATTACH;FMTTYPE=image/png:https://visithillsboroughnc.com/wp-content/uploads/2024/10/2024-HFTH-Flyer-1.png
END:VEVENT
BEGIN:VEVENT
DTSTART;VALUE=DATE:20241207
DTEND;VALUE=DATE:20241209
DTSTAMP:20260425T070146
CREATED:20241107T203412Z
LAST-MODIFIED:20241107T203412Z
UID:10008024-1733536800-1733623199@visithillsboroughnc.com
SUMMARY:2024 Homes for the Holidays: A Hillsborough Gingerbread Tradition
DESCRIPTION:The annual walking tour of unconventional gingerbread exhibits returns to Hillsborough’s downtown shop windows this holiday season from December 7 to January 5.  The event celebrates artistic sculpture: creations can be made of any material as long as the visible elements are edible. The public is invited to submit creative interpretations of this year’s theme\, “Winter Wonderland” within the Adult or Youth & Family categories; registration is open Nov. 1-27. Voting for People’s Choice Awards will take place through Dec 20 and winners will be announced at the town’s Solstice Lantern Walk on Dec 21.
URL:https://visithillsboroughnc.com/event/2024-homes-for-the-holidays-a-hillsborough-gingerbread-tradition/2024-12-07/
LOCATION:Downtown Historic Hillsborough\, 101 S Churton Street\, Hillsborough\, NC\, 27278
CATEGORIES:Holidays
ATTACH;FMTTYPE=image/jpeg:https://visithillsboroughnc.com/wp-content/uploads/2024/10/Victorian-House-1-1.jpg
ORGANIZER;CN="Hillsborough Chamber of Commerce":MAILTO:officeadmin@hillsboroughchamber.com
END:VEVENT
BEGIN:VEVENT
DTSTART;TZID=America/New_York:20241207T120000
DTEND;TZID=America/New_York:20241207T160000
DTSTAMP:20260425T070146
CREATED:20241203T180911Z
LAST-MODIFIED:20241203T180911Z
UID:10008098-1733572800-1733587200@visithillsboroughnc.com
SUMMARY:Hillsborough Gallery of Arts Pop-Up Market
DESCRIPTION:Holiday Pop-up Market You’re sure to find the perfect gift at our second annual Holiday Pop-up! Shop handmade jewelry\, ornaments\, pottery\, blown glass\, original paintings\, prints and more! \nEnter to Win a $50 HGA Gift Card! \nDecember 7th\, Noon-4 Participanting Artists: Helen Bower\, Ryann Carey\, Nell Chandler\, Mark Kinsella\, Jude Lobe\, Pat Merriman\, Nancy Smith\, Ellie Snow\, Pringle Teetor\, Evelyn Ward\, Lynn Wartski
URL:https://visithillsboroughnc.com/event/hillsborough-gallery-of-arts-pop-up-market/
LOCATION:Hillsborough Gallery of Arts\, 121 N. Churton St.\, Hillsborough\, 27278
CATEGORIES:Art,Free,Holidays
ATTACH;FMTTYPE=image/jpeg:https://visithillsboroughnc.com/wp-content/uploads/2024/12/Pringle-Teetor-Red-and-Green-Balls300dpiphoto_by_the_artist.jpg
ORGANIZER;CN="Hillsborough Gallery of Arts":MAILTO:publicity@hillsboroughgallery.com
GEO:36.0760991;-79.0997261
X-APPLE-STRUCTURED-LOCATION;VALUE=URI;X-ADDRESS=Hillsborough Gallery of Arts 121 N. Churton St. Hillsborough 27278;X-APPLE-RADIUS=500;X-TITLE=121 N. Churton St.:geo:-79.0997261,36.0760991
END:VEVENT
BEGIN:VEVENT
DTSTART;TZID=America/New_York:20241207T180000
DTEND;TZID=America/New_York:20241207T220000
DTSTAMP:20260425T070146
CREATED:20241120T191206Z
LAST-MODIFIED:20241120T191206Z
UID:10008080-1733594400-1733608800@visithillsboroughnc.com
SUMMARY:Elf-land Christmas Festival
DESCRIPTION:The Barn at Lloyd’s Dairy and the Efland United Methodist Church have joined together to start our inaugural Elfland Christmas Festival with lots of holiday cheer.  To purchase tickets\, visit this link: https://oceandrive20075.wixsite.com/christmasfestival \nLook below to see what will be offered at the festival! \n\n\n\n\n\nSanta’s Workshop\nTake care of all your Christmas shopping at Santa’s Workshop featuring arts\, crafts\, toys\, baked items and more that this years festival.  Join us for this amazing shopping experience while visiting Santa… \n\n\n\n\n\n\n\n\n\nChristmas Village \nCome enjoy our Elfland Village Decorated in Christmas Decor and featuring interactive displays for amazing one of a kind photo opportunities of some of your favorite holiday scenes from movies to nostalgic fun and get you in the holiday spirit… \n\n\n\n\n\n\n\n\n\nHayride on the Farm\nExperience the family fun with a hayride around our farm that has been in our family for 10 generations.  Enjoy the authentic fun under the stars before or after our your visit with Santa… \n\n\n\n\n\n\n\n\n\nHoliday Entertainment\nCome enjoy our various entertainment options from roaming carolers to outdoor holiday movies and special barn video holiday presentation and of course a visit with Santa. \n\n\n\n\n\n\n\n\n\nPony Rides\nPony rides is a new addition to this years event.  Come take a ride and enjoy our special friends. \n\n\n\n\n\n\n\n\n\nLifesized Snow Globe and Inflatables\nHave you ever been in a lifesized snow globe??  Come take an amazing picture in ours.  We will also have inflatable bounces houses.
URL:https://visithillsboroughnc.com/event/elf-land-christmas-festival/2024-12-07/
LOCATION:The Barn at Lloyd’s Dairy Farm\, 226 North Lloyd's Dairy Road\, Efland\, NC\, 27243\, United States
CATEGORIES:Family,Festival,Food/Drink,Holidays,Kids,Outdoor,Shopping
ATTACH;FMTTYPE=image/png:https://visithillsboroughnc.com/wp-content/uploads/2024/11/Screenshot-2024-11-20-140345.png
GEO:36.0840881;-79.1566156
X-APPLE-STRUCTURED-LOCATION;VALUE=URI;X-ADDRESS=The Barn at Lloyd’s Dairy Farm 226 North Lloyd's Dairy Road Efland NC 27243 United States;X-APPLE-RADIUS=500;X-TITLE=226 North Lloyd's Dairy Road:geo:-79.1566156,36.0840881
END:VEVENT
END:VCALENDAR