BEGIN:VCALENDAR
VERSION:2.0
PRODID:-//Visit Hillsborough, NC - ECPv6.15.4//NONSGML v1.0//EN
CALSCALE:GREGORIAN
METHOD:PUBLISH
X-WR-CALNAME:Visit Hillsborough, NC
X-ORIGINAL-URL:https://visithillsboroughnc.com
X-WR-CALDESC:Events for Visit Hillsborough, NC
REFRESH-INTERVAL;VALUE=DURATION:PT1H
X-Robots-Tag:noindex
X-PUBLISHED-TTL:PT1H
BEGIN:VTIMEZONE
TZID:America/New_York
BEGIN:DAYLIGHT
TZOFFSETFROM:-0500
TZOFFSETTO:-0400
TZNAME:EDT
DTSTART:20240310T070000
END:DAYLIGHT
BEGIN:STANDARD
TZOFFSETFROM:-0400
TZOFFSETTO:-0500
TZNAME:EST
DTSTART:20241103T060000
END:STANDARD
END:VTIMEZONE
BEGIN:VEVENT
DTSTART;TZID=America/New_York:20241005T090000
DTEND;TZID=America/New_York:20241005T140000
DTSTAMP:20260424T081307
CREATED:20240919T165351Z
LAST-MODIFIED:20240919T165351Z
UID:10007699-1728118800-1728136800@visithillsboroughnc.com
SUMMARY:PlantFest 2024
DESCRIPTION:Come to PlantFest on Oct. 5! The Master Gardener volunteers of Orange County will have a big plant sale\, including many natives\, as well as a garden festival featuring fun kids’ activities\, gardening exhibits and demonstrations\, a nature art sale\, free seeds\, tool sharpening and food!  Free. (If you like\, bring a wagon to haul your plants to your car. We’ll have boxes!)
URL:https://visithillsboroughnc.com/event/plantfest-2024/
LOCATION:Orange county cooperative extension\, 1020 US HWY - 70 W. Suite 130\, Hillsborough\, NC\, 27278-2685\, United States
CATEGORIES:Family,Festival,Free,Gardens/Gardening,Kids,Outdoor
ATTACH;FMTTYPE=image/png:https://visithillsboroughnc.com/wp-content/uploads/2024/09/flowers.png
ORGANIZER;CN="Orange County Extension Master Gardener Volunteers":MAILTO:Ocmgardeners@gmail.com
END:VEVENT
BEGIN:VEVENT
DTSTART;TZID=America/New_York:20241005T110000
DTEND;TZID=America/New_York:20241005T190000
DTSTAMP:20260424T081307
CREATED:20240807T164204Z
LAST-MODIFIED:20240807T164616Z
UID:10007593-1728126000-1728154800@visithillsboroughnc.com
SUMMARY:The Witch's Haunted Barn & Pumpkin Patch
DESCRIPTION:Family fun for kids of all ages – thrills and frights await you as you enter the Witch’s Haunted Barn. A whimsical look at Halloween – fun for kids of all ages. Candy for every child at the end of the barn (if you survive!) and a pumpkin patch so you can pick out your perfect pumpkin! \nWitch Hazel has been busy conjuring up all sorts of spirits\, and the Haunted Barn has it all: A coffin fitting room\, complete with outfits for your eternal rest\, a graveyard full of unsettled souls\, Aliens\, First and Last Aid with a Mad Doctor\, Spiders\, spiders\, and more spiders\, Creepy Dolls\, a haunted nursery – ring around a rosie\, pocket full of posies…\, a fire swamp\, a coffin in the kitchen where the Kitchen Crone is whipping up delectable goodies\, Skellies everywhere\, The Butcher’s room\, Hallway of Horrors (and clowns)\, the Vault\, the Dungeon\, a Witches Coven and so much more. \nIn addition to the barn: See the horses\, donkeys\, goats and chickens. Spend time walking around the farm on our trails – the Pond Walk and Pasture walk and the labyrinth are open! Enjoy food and crafts from our vendors\, make a craft\, and pick out your perfect pumpkin from our patch.  It’s a wonderful way to spend a Saturday in the Fall. \nPhotography and Costumes are encouraged. Virtual tickets available in the farm’s online store\, good for any Saturday in October (rain or shine). Gates open at 11 am and the barn is open from noon till 7 pm.  The twilight hours we added this year will be fun for those that like things a little more spooky!
URL:https://visithillsboroughnc.com/event/the-witchs-haunted-barn-pumpkin-patch/2024-10-05/
LOCATION:Firefly Farm\, 4911 Hunt Rd\, Hillsborough\, NC\, 27278\, United States
CATEGORIES:Agritourism,Family,Food/Drink,Gardens/Gardening,Kids,Outdoor
ATTACH;FMTTYPE=image/jpeg:https://visithillsboroughnc.com/wp-content/uploads/2024/08/witchhazelwhimsical.jpg
ORGANIZER;CN="Firefly Farm":MAILTO:fireflyfarm2015@gmail.com
END:VEVENT
BEGIN:VEVENT
DTSTART;TZID=America/New_York:20241012T110000
DTEND;TZID=America/New_York:20241012T190000
DTSTAMP:20260424T081307
CREATED:20240807T164204Z
LAST-MODIFIED:20240807T164616Z
UID:10007594-1728730800-1728759600@visithillsboroughnc.com
SUMMARY:The Witch's Haunted Barn & Pumpkin Patch
DESCRIPTION:Family fun for kids of all ages – thrills and frights await you as you enter the Witch’s Haunted Barn. A whimsical look at Halloween – fun for kids of all ages. Candy for every child at the end of the barn (if you survive!) and a pumpkin patch so you can pick out your perfect pumpkin! \nWitch Hazel has been busy conjuring up all sorts of spirits\, and the Haunted Barn has it all: A coffin fitting room\, complete with outfits for your eternal rest\, a graveyard full of unsettled souls\, Aliens\, First and Last Aid with a Mad Doctor\, Spiders\, spiders\, and more spiders\, Creepy Dolls\, a haunted nursery – ring around a rosie\, pocket full of posies…\, a fire swamp\, a coffin in the kitchen where the Kitchen Crone is whipping up delectable goodies\, Skellies everywhere\, The Butcher’s room\, Hallway of Horrors (and clowns)\, the Vault\, the Dungeon\, a Witches Coven and so much more. \nIn addition to the barn: See the horses\, donkeys\, goats and chickens. Spend time walking around the farm on our trails – the Pond Walk and Pasture walk and the labyrinth are open! Enjoy food and crafts from our vendors\, make a craft\, and pick out your perfect pumpkin from our patch.  It’s a wonderful way to spend a Saturday in the Fall. \nPhotography and Costumes are encouraged. Virtual tickets available in the farm’s online store\, good for any Saturday in October (rain or shine). Gates open at 11 am and the barn is open from noon till 7 pm.  The twilight hours we added this year will be fun for those that like things a little more spooky!
URL:https://visithillsboroughnc.com/event/the-witchs-haunted-barn-pumpkin-patch/2024-10-12/
LOCATION:Firefly Farm\, 4911 Hunt Rd\, Hillsborough\, NC\, 27278\, United States
CATEGORIES:Agritourism,Family,Food/Drink,Gardens/Gardening,Kids,Outdoor
ATTACH;FMTTYPE=image/jpeg:https://visithillsboroughnc.com/wp-content/uploads/2024/08/witchhazelwhimsical.jpg
ORGANIZER;CN="Firefly Farm":MAILTO:fireflyfarm2015@gmail.com
END:VEVENT
BEGIN:VEVENT
DTSTART;TZID=America/New_York:20241019T110000
DTEND;TZID=America/New_York:20241019T190000
DTSTAMP:20260424T081307
CREATED:20240807T164204Z
LAST-MODIFIED:20240807T164616Z
UID:10007595-1729335600-1729364400@visithillsboroughnc.com
SUMMARY:The Witch's Haunted Barn & Pumpkin Patch
DESCRIPTION:Family fun for kids of all ages – thrills and frights await you as you enter the Witch’s Haunted Barn. A whimsical look at Halloween – fun for kids of all ages. Candy for every child at the end of the barn (if you survive!) and a pumpkin patch so you can pick out your perfect pumpkin! \nWitch Hazel has been busy conjuring up all sorts of spirits\, and the Haunted Barn has it all: A coffin fitting room\, complete with outfits for your eternal rest\, a graveyard full of unsettled souls\, Aliens\, First and Last Aid with a Mad Doctor\, Spiders\, spiders\, and more spiders\, Creepy Dolls\, a haunted nursery – ring around a rosie\, pocket full of posies…\, a fire swamp\, a coffin in the kitchen where the Kitchen Crone is whipping up delectable goodies\, Skellies everywhere\, The Butcher’s room\, Hallway of Horrors (and clowns)\, the Vault\, the Dungeon\, a Witches Coven and so much more. \nIn addition to the barn: See the horses\, donkeys\, goats and chickens. Spend time walking around the farm on our trails – the Pond Walk and Pasture walk and the labyrinth are open! Enjoy food and crafts from our vendors\, make a craft\, and pick out your perfect pumpkin from our patch.  It’s a wonderful way to spend a Saturday in the Fall. \nPhotography and Costumes are encouraged. Virtual tickets available in the farm’s online store\, good for any Saturday in October (rain or shine). Gates open at 11 am and the barn is open from noon till 7 pm.  The twilight hours we added this year will be fun for those that like things a little more spooky!
URL:https://visithillsboroughnc.com/event/the-witchs-haunted-barn-pumpkin-patch/2024-10-19/
LOCATION:Firefly Farm\, 4911 Hunt Rd\, Hillsborough\, NC\, 27278\, United States
CATEGORIES:Agritourism,Family,Food/Drink,Gardens/Gardening,Kids,Outdoor
ATTACH;FMTTYPE=image/jpeg:https://visithillsboroughnc.com/wp-content/uploads/2024/08/witchhazelwhimsical.jpg
ORGANIZER;CN="Firefly Farm":MAILTO:fireflyfarm2015@gmail.com
END:VEVENT
BEGIN:VEVENT
DTSTART;TZID=America/New_York:20241025T150000
DTEND;TZID=America/New_York:20241025T180000
DTSTAMP:20260424T081307
CREATED:20240905T131804Z
LAST-MODIFIED:20241023T172210Z
UID:10007683-1729868400-1729879200@visithillsboroughnc.com
SUMMARY:Hillsborough Merchant Trick or Treat 2024
DESCRIPTION:Bring the kids and celebrate Halloween by visiting dozens of participating Hillsborough businesses for free candy and goodies!  Map of participating businesses here: https://www.google.com/maps/d/u/0/viewer?hl=en&ll=36.076161964013814%2C-79.09939674911067&z=18&mid=1BgVMJxqWXLhf_cIvuKM4woYkdueXQxA 
URL:https://visithillsboroughnc.com/event/hillsborough-community-trick-or-treat/
LOCATION:Downtown Historic Hillsborough\, 101 S Churton Street\, Hillsborough\, NC\, 27278
CATEGORIES:Family,Free,Holidays,Kids
ATTACH;FMTTYPE=image/png:https://visithillsboroughnc.com/wp-content/uploads/2024/09/Community-Trick-or-Treat-social-media-ad.png
ORGANIZER;CN="Hillsborough Chamber of Commerce":MAILTO:officeadmin@hillsboroughchamber.com
END:VEVENT
END:VCALENDAR