BEGIN:VCALENDAR
VERSION:2.0
PRODID:-//Visit Hillsborough, NC - ECPv6.15.4//NONSGML v1.0//EN
CALSCALE:GREGORIAN
METHOD:PUBLISH
X-WR-CALNAME:Visit Hillsborough, NC
X-ORIGINAL-URL:https://visithillsboroughnc.com
X-WR-CALDESC:Events for Visit Hillsborough, NC
REFRESH-INTERVAL;VALUE=DURATION:PT1H
X-Robots-Tag:noindex
X-PUBLISHED-TTL:PT1H
BEGIN:VTIMEZONE
TZID:America/New_York
BEGIN:DAYLIGHT
TZOFFSETFROM:-0500
TZOFFSETTO:-0400
TZNAME:EDT
DTSTART:20240310T070000
END:DAYLIGHT
BEGIN:STANDARD
TZOFFSETFROM:-0400
TZOFFSETTO:-0500
TZNAME:EST
DTSTART:20241103T060000
END:STANDARD
END:VTIMEZONE
BEGIN:VEVENT
DTSTART;TZID=America/New_York:20241102T100000
DTEND;TZID=America/New_York:20241102T140000
DTSTAMP:20260424T093034
CREATED:20241031T140959Z
LAST-MODIFIED:20241031T140959Z
UID:10008011-1730541600-1730556000@visithillsboroughnc.com
SUMMARY:Saturday Slowdown at RambleRill Farm:  Open Farm and Market Day
DESCRIPTION:Celebrate fall at this weekend’s Saturday Slowdown! There will be blacksmithing demos; shopping from local makers\, bakers\, and growers; lunch\, snacks\, and free cider; wizard/witch wand-making for kids; chair massage; flower bar; goat visits; Longleaf Forest School open house and play date. Fun for the whole family! Saturday Nov 2\, 10am-2pm\,  913 Arthur Minnis Road\, Hillsborough.  Free admission.
URL:https://visithillsboroughnc.com/event/saturday-slowdown-at-ramblerill-farm-open-farm-and-market-day-3/
LOCATION:Ramble Rill Farm\, 913 Arthur Minnis Road\, Hillsborough\, NC\, 27516\, United States
CATEGORIES:Agritourism,Food/Drink,Free,Kids,Shopping
ATTACH;FMTTYPE=image/jpeg:https://visithillsboroughnc.com/wp-content/uploads/2024/10/Slowdown-flyer-11.2.24.jpg
GEO:35.9948567;-79.1258582
X-APPLE-STRUCTURED-LOCATION;VALUE=URI;X-ADDRESS=Ramble Rill Farm 913 Arthur Minnis Road Hillsborough NC 27516 United States;X-APPLE-RADIUS=500;X-TITLE=913 Arthur Minnis Road:geo:-79.1258582,35.9948567
END:VEVENT
END:VCALENDAR