BEGIN:VCALENDAR
VERSION:2.0
PRODID:-//Visit Hillsborough, NC - ECPv6.15.4//NONSGML v1.0//EN
CALSCALE:GREGORIAN
METHOD:PUBLISH
X-WR-CALNAME:Visit Hillsborough, NC
X-ORIGINAL-URL:https://visithillsboroughnc.com
X-WR-CALDESC:Events for Visit Hillsborough, NC
REFRESH-INTERVAL;VALUE=DURATION:PT1H
X-Robots-Tag:noindex
X-PUBLISHED-TTL:PT1H
BEGIN:VTIMEZONE
TZID:America/New_York
BEGIN:DAYLIGHT
TZOFFSETFROM:-0500
TZOFFSETTO:-0400
TZNAME:EDT
DTSTART:20260308T070000
END:DAYLIGHT
BEGIN:STANDARD
TZOFFSETFROM:-0400
TZOFFSETTO:-0500
TZNAME:EST
DTSTART:20261101T060000
END:STANDARD
END:VTIMEZONE
BEGIN:VEVENT
DTSTART;TZID=America/New_York:20260408T100000
DTEND;TZID=America/New_York:20260408T120000
DTSTAMP:20260421T122740
CREATED:20260320T194927Z
LAST-MODIFIED:20260320T194957Z
UID:10016580-1775642400-1775649600@visithillsboroughnc.com
SUMMARY:Hillsborough Climate Challenge: Invasive plant removal
DESCRIPTION:Invasive plant removal along Riverwalk.  Participate in Hillsborough Tree Board’s Invasive Removal Program and help them remove those pesky plants crowding out the natives along Hillsborough’s lovely Riverwalk  Please wear long pants and closed-toe shoes. Tools and gloves provided (or you can bring your own).  You can make a difference!
URL:https://visithillsboroughnc.com/event/invasive-plant-removal-along-riverwalk/
LOCATION:Hillsborough Riverwalk\, 115 Nash and Kollock St\, Hillsborough\, NC\, United States
CATEGORIES:Outdoor
ORGANIZER;CN="Hillsborough Climate Challenge Green Team":MAILTO:cvinski@yahoo.com
GEO:36.0732787;-79.1002191
X-APPLE-STRUCTURED-LOCATION;VALUE=URI;X-ADDRESS=Hillsborough Riverwalk 115 Nash and Kollock St Hillsborough NC United States;X-APPLE-RADIUS=500;X-TITLE=115 Nash and Kollock St:geo:-79.1002191,36.0732787
END:VEVENT
END:VCALENDAR