BEGIN:VCALENDAR
VERSION:2.0
PRODID:-//Visit Hillsborough, NC - ECPv6.15.4//NONSGML v1.0//EN
CALSCALE:GREGORIAN
METHOD:PUBLISH
X-WR-CALNAME:Visit Hillsborough, NC
X-ORIGINAL-URL:https://visithillsboroughnc.com
X-WR-CALDESC:Events for Visit Hillsborough, NC
REFRESH-INTERVAL;VALUE=DURATION:PT1H
X-Robots-Tag:noindex
X-PUBLISHED-TTL:PT1H
BEGIN:VTIMEZONE
TZID:America/New_York
BEGIN:DAYLIGHT
TZOFFSETFROM:-0500
TZOFFSETTO:-0400
TZNAME:EDT
DTSTART:20250309T070000
END:DAYLIGHT
BEGIN:STANDARD
TZOFFSETFROM:-0400
TZOFFSETTO:-0500
TZNAME:EST
DTSTART:20251102T060000
END:STANDARD
END:VTIMEZONE
BEGIN:VEVENT
DTSTART;TZID=America/New_York:20250917T110000
DTEND;TZID=America/New_York:20250917T180000
DTSTAMP:20260422T153012
CREATED:20250902T144255Z
LAST-MODIFIED:20251107T192352Z
UID:10012417-1758106800-1758132000@visithillsboroughnc.com
SUMMARY:Something to Say ... 2025\, Art and Poetry from the Men at Orange Correctional Centr
DESCRIPTION:A celebration of the creativity of those with the lived experience of incarceration\, featuring visual art and poetry by inmates at Orange Correctional Center. \nReception during the Last Friday Art Walk\, Friday\, September 26\, 6-9 pm. Friends and Family Celebration\, which is open to the general public\, will be held Saturday September 27\, 1:30-4 pm\, gathering at the public library next door to the Gallery. \n 
URL:https://visithillsboroughnc.com/event/something-to-say-2025-art-and-poetry-from-the-men-at-orange-correctional-centr/
LOCATION:Margaret Lane Gallery\, 121 West Margaret Lane\, Hillsborough\, NC\, 27278\, United States
CATEGORIES:Art,Poetry
ATTACH;FMTTYPE=image/jpeg:https://visithillsboroughnc.com/wp-content/uploads/2025/09/something-to-say-2025-sm.jpg
ORGANIZER;CN="Margaret Lane Gallery":MAILTO:margaretlanegallery@gmail.com
GEO:36.0743007;-79.1002029
X-APPLE-STRUCTURED-LOCATION;VALUE=URI;X-ADDRESS=Margaret Lane Gallery 121 West Margaret Lane Hillsborough NC 27278 United States;X-APPLE-RADIUS=500;X-TITLE=121 West Margaret Lane:geo:-79.1002029,36.0743007
END:VEVENT
END:VCALENDAR