BEGIN:VCALENDAR
VERSION:2.0
PRODID:-//Visit Hillsborough, NC - ECPv6.15.4//NONSGML v1.0//EN
CALSCALE:GREGORIAN
METHOD:PUBLISH
X-ORIGINAL-URL:https://visithillsboroughnc.com
X-WR-CALDESC:Events for Visit Hillsborough, NC
REFRESH-INTERVAL;VALUE=DURATION:PT1H
X-Robots-Tag:noindex
X-PUBLISHED-TTL:PT1H
BEGIN:VTIMEZONE
TZID:America/New_York
BEGIN:DAYLIGHT
TZOFFSETFROM:-0500
TZOFFSETTO:-0400
TZNAME:EDT
DTSTART:20250309T070000
END:DAYLIGHT
BEGIN:STANDARD
TZOFFSETFROM:-0400
TZOFFSETTO:-0500
TZNAME:EST
DTSTART:20251102T060000
END:STANDARD
END:VTIMEZONE
BEGIN:VEVENT
DTSTART;TZID=America/New_York:20250408T100000
DTEND;TZID=America/New_York:20250408T170000
DTSTAMP:20260421T093838
CREATED:20250409T165422Z
LAST-MODIFIED:20250409T165422Z
UID:10008974-1744106400-1744131600@visithillsboroughnc.com
SUMMARY:VIETRI Outlet Store Garden Sale
DESCRIPTION:Enjoy shopping 20% off already discounted garden planters and cachepots! \nTuesday\, April 8 – Sunday\, April 13. \n343 Elizabeth Brady Rd\, Hillsborough\, NC 27278
URL:https://visithillsboroughnc.com/event/vietri-outlet-store-garden-sale/2025-04-08/
LOCATION:Vietri Warehouse\, 343 Elizabeth Brady Road \, Hillsborough \, NC\, 27278\, United States
CATEGORIES:Shopping
GEO:36.0707664;-79.0864627
X-APPLE-STRUCTURED-LOCATION;VALUE=URI;X-ADDRESS=Vietri Warehouse 343 Elizabeth Brady Road  Hillsborough  NC 27278 United States;X-APPLE-RADIUS=500;X-TITLE=343 Elizabeth Brady Road:geo:-79.0864627,36.0707664
END:VEVENT
END:VCALENDAR