BEGIN:VCALENDAR
VERSION:2.0
PRODID:-//Visit Hillsborough, NC - ECPv6.15.4//NONSGML v1.0//EN
CALSCALE:GREGORIAN
METHOD:PUBLISH
X-WR-CALNAME:Visit Hillsborough, NC
X-ORIGINAL-URL:https://visithillsboroughnc.com
X-WR-CALDESC:Events for Visit Hillsborough, NC
REFRESH-INTERVAL;VALUE=DURATION:PT1H
X-Robots-Tag:noindex
X-PUBLISHED-TTL:PT1H
BEGIN:VTIMEZONE
TZID:America/New_York
BEGIN:DAYLIGHT
TZOFFSETFROM:-0500
TZOFFSETTO:-0400
TZNAME:EDT
DTSTART:20250309T070000
END:DAYLIGHT
BEGIN:STANDARD
TZOFFSETFROM:-0400
TZOFFSETTO:-0500
TZNAME:EST
DTSTART:20251102T060000
END:STANDARD
END:VTIMEZONE
BEGIN:VEVENT
DTSTART;TZID=America/New_York:20250501T170000
DTEND;TZID=America/New_York:20250501T210000
DTSTAMP:20260420T154234
CREATED:20250306T164520Z
LAST-MODIFIED:20250401T134709Z
UID:10008882-1746118800-1746133200@visithillsboroughnc.com
SUMMARY:Ladies Night Out
DESCRIPTION:Gather your friends and join us Thursday\, May 1\, 2025\, for a special one-day event at businesses throughout Hillsborough offering shopping\, dining and drink specials\, giveaways\, demonstrations and more. \nWe are collecting offers now\, so check back to see the updated list of participating businesses and specials. \nRegister here: https://hillsboroughchamber.chambermaster.com/eventregistration/register/23647 \n  \n\n\n\n\n\n\nPresented By
URL:https://visithillsboroughnc.com/event/ladies-night-out/
LOCATION:Hillsborough/Orange County Chamber of Commerce\, 200 N. Churton Street\, Hillsborough\, NC\, 27278\, United States
CATEGORIES:Food/Drink,Shopping
ATTACH;FMTTYPE=image/jpeg:https://visithillsboroughnc.com/wp-content/uploads/2025/03/Ladies-Night-Out-ad-2025-small-scaled.jpg
ORGANIZER;CN="Hillsborough Chamber of Commerce":MAILTO:officeadmin@hillsboroughchamber.com
END:VEVENT
END:VCALENDAR