BEGIN:VCALENDAR
VERSION:2.0
PRODID:-//Visit Hillsborough, NC - ECPv6.15.4//NONSGML v1.0//EN
CALSCALE:GREGORIAN
METHOD:PUBLISH
X-WR-CALNAME:Visit Hillsborough, NC
X-ORIGINAL-URL:https://visithillsboroughnc.com
X-WR-CALDESC:Events for Visit Hillsborough, NC
REFRESH-INTERVAL;VALUE=DURATION:PT1H
X-Robots-Tag:noindex
X-PUBLISHED-TTL:PT1H
BEGIN:VTIMEZONE
TZID:America/New_York
BEGIN:DAYLIGHT
TZOFFSETFROM:-0500
TZOFFSETTO:-0400
TZNAME:EDT
DTSTART:20250309T070000
END:DAYLIGHT
BEGIN:STANDARD
TZOFFSETFROM:-0400
TZOFFSETTO:-0500
TZNAME:EST
DTSTART:20251102T060000
END:STANDARD
END:VTIMEZONE
BEGIN:VEVENT
DTSTART;TZID=America/New_York:20250614T130000
DTEND;TZID=America/New_York:20250614T160000
DTSTAMP:20260421T054818
CREATED:20250430T133557Z
LAST-MODIFIED:20250430T133557Z
UID:10009068-1749906000-1749916800@visithillsboroughnc.com
SUMMARY:Big Spoon Roasters' Second Annual Birthday Bash
DESCRIPTION:The festival-like celebration will include shopping from an incredible lineup of food\, beverage\, and craft vendors (think beer\, cocktail syrups\, coffee\, macarons\, jams\, a build-your-own bouquet station\, ceramics\, candles\, and more!)\, with proceeds benefiting Paws4Ever Animal Rescue! We’ll also have meet-and-greets with some sweet (adoptable) furry friends\, and a shopping/sample station for Big Spoon’s entire lineup of nut butters and snack bars. \nThe event is free to attend\, open to the public—dogs included! (outdoors)—and fun for the whole family. We can’t wait to see you there. \nParticipating vendors (in addition to Big Spoon Roasters) include: Alley Twenty-Six\, Bright Black Candles\, Eno River Brewing\, Fillaree\, Firefly Farm\, J’Ellen Jam\, Le Petit Amour Macarons\, Locopops\, Paws4Ever\, and Ware Ware Ceramics. \nPlease note there is no parking available on-site\, but free parking is provided nearby at Joe Van Gogh (505 Meadowlands Dr)\, Grace Hill Church (515 Meadowlands Dr)\, and Barlow Scientific (504 Meadowlands Dr).
URL:https://visithillsboroughnc.com/event/big-spoon-roasters-second-annual-birthday-bash/
LOCATION:Big Spoon Roasters\, 500 Meadowlands Dr\, Hillsborough\, NC\, 27278\, United States
CATEGORIES:Food/Drink,Free,Maker,Outdoor,Shopping
ATTACH;FMTTYPE=image/png:https://visithillsboroughnc.com/wp-content/uploads/2025/04/2025-Bday-Bash-Social-Image.png
END:VEVENT
END:VCALENDAR