BEGIN:VCALENDAR
VERSION:2.0
PRODID:-//Visit Hillsborough, NC - ECPv6.15.4//NONSGML v1.0//EN
CALSCALE:GREGORIAN
METHOD:PUBLISH
X-ORIGINAL-URL:https://visithillsboroughnc.com
X-WR-CALDESC:Events for Visit Hillsborough, NC
REFRESH-INTERVAL;VALUE=DURATION:PT1H
X-Robots-Tag:noindex
X-PUBLISHED-TTL:PT1H
BEGIN:VTIMEZONE
TZID:America/New_York
BEGIN:DAYLIGHT
TZOFFSETFROM:-0500
TZOFFSETTO:-0400
TZNAME:EDT
DTSTART:20250309T070000
END:DAYLIGHT
BEGIN:STANDARD
TZOFFSETFROM:-0400
TZOFFSETTO:-0500
TZNAME:EST
DTSTART:20251102T060000
END:STANDARD
END:VTIMEZONE
BEGIN:VEVENT
DTSTART;TZID=America/New_York:20250802T100000
DTEND;TZID=America/New_York:20250802T140000
DTSTAMP:20260421T172508
CREATED:20250731T195809Z
LAST-MODIFIED:20250731T195809Z
UID:10011563-1754128800-1754143200@visithillsboroughnc.com
SUMMARY:Saturday Slowdown at RambleRill Farm: Market and Open Farm Day
DESCRIPTION:Local makers\, bakers\, and growers market\, live music by Rob Gelblum\, goat visits\, kids’ crafts\, flower bar\, FREE ice cream scoops and icy pops\, and brisket samples. 10am-2 pm\, Saturday 8.2.25\, 10am-2 pm\, Saturday 8.2.25\, 913 Arthur Minnis Rd.\, Hillsborough\, NC\, Free admission
URL:https://visithillsboroughnc.com/event/saturday-slowdown-at-ramblerill-farm-market-and-open-farm-day-4/
LOCATION:Ramble Rill Farm\, 913 Arthur Minnis Road\, Hillsborough\, NC\, 27516\, United States
CATEGORIES:Agritourism,Family,Food/Drink,Free,Live Music,Shopping
GEO:35.9948567;-79.1258582
X-APPLE-STRUCTURED-LOCATION;VALUE=URI;X-ADDRESS=Ramble Rill Farm 913 Arthur Minnis Road Hillsborough NC 27516 United States;X-APPLE-RADIUS=500;X-TITLE=913 Arthur Minnis Road:geo:-79.1258582,35.9948567
END:VEVENT
END:VCALENDAR