BEGIN:VCALENDAR
VERSION:2.0
PRODID:-//Visit Hillsborough, NC - ECPv6.15.4//NONSGML v1.0//EN
CALSCALE:GREGORIAN
METHOD:PUBLISH
X-ORIGINAL-URL:https://visithillsboroughnc.com
X-WR-CALDESC:Events for Visit Hillsborough, NC
REFRESH-INTERVAL;VALUE=DURATION:PT1H
X-Robots-Tag:noindex
X-PUBLISHED-TTL:PT1H
BEGIN:VTIMEZONE
TZID:America/New_York
BEGIN:DAYLIGHT
TZOFFSETFROM:-0500
TZOFFSETTO:-0400
TZNAME:EDT
DTSTART:20260308T070000
END:DAYLIGHT
BEGIN:STANDARD
TZOFFSETFROM:-0400
TZOFFSETTO:-0500
TZNAME:EST
DTSTART:20261101T060000
END:STANDARD
END:VTIMEZONE
BEGIN:VEVENT
DTSTART;TZID=America/New_York:20260327T170000
DTEND;TZID=America/New_York:20260327T180000
DTSTAMP:20260419T114606
CREATED:20260224T163455Z
LAST-MODIFIED:20260224T163455Z
UID:10015736-1774630800-1774634400@visithillsboroughnc.com
SUMMARY:IMPRESSIONISM IN SCOTLAND\, Talk\, Tour and Scottish Tea with Art Historian Christine Benoodt
DESCRIPTION:SALTIRE GALLERIE Talk on ‘Impressionism in Scotland’\nVisit the Scottish Impressionist Exhibition with FIFTY paintings in Saltire Gallerie with Art Historian Christine Benoodt\, for a Talk\, Guide to the Art\, and Scottish Tea March 27 5:00pm\nChristine presents a talk on ‘Impressionism in Scotland’ in the intimate Exhibition room\, surrounded by fine art. Scottish Tea and refreshments will be served\, for $20 per person. The Gallerie will remain open after the talk for guests to view the exhibit and discuss the art at leisure\, with the speaker and Gallerie owner.  We are a Five minute walk from Weaver Street parking garage via Riverwalk\, or to the Old Courthouse center of Town.  After the talk\, join the Hillsborough Art Walk activities! RESERVE YOUR PLACE as space is limited. Contact us at 919.996.0424\, or email at info@saltiregallerie.com.  You can also find us on Eventbrite!
URL:https://visithillsboroughnc.com/event/impressionism-in-scotland-talk-tour-and-scottish-tea-with-art-historian-christine-benoodt/
LOCATION:Saltire Gallerie\, 209 Burnside Dr\, Hillsborough\, NC\, 27278\, United States
CATEGORIES:Art,Food/Drink,History,Speaker
ATTACH;FMTTYPE=image/png:https://visithillsboroughnc.com/wp-content/uploads/2026/02/Impressionism-in-Scotland-FLYER-THREE.png
END:VEVENT
END:VCALENDAR