BEGIN:VCALENDAR
VERSION:2.0
PRODID:-//Visit Hillsborough, NC - ECPv6.15.4//NONSGML v1.0//EN
CALSCALE:GREGORIAN
METHOD:PUBLISH
X-WR-CALNAME:Visit Hillsborough, NC
X-ORIGINAL-URL:https://visithillsboroughnc.com
X-WR-CALDESC:Events for Visit Hillsborough, NC
REFRESH-INTERVAL;VALUE=DURATION:PT1H
X-Robots-Tag:noindex
X-PUBLISHED-TTL:PT1H
BEGIN:VTIMEZONE
TZID:America/New_York
BEGIN:DAYLIGHT
TZOFFSETFROM:-0500
TZOFFSETTO:-0400
TZNAME:EDT
DTSTART:20240310T070000
END:DAYLIGHT
BEGIN:STANDARD
TZOFFSETFROM:-0400
TZOFFSETTO:-0500
TZNAME:EST
DTSTART:20241103T060000
END:STANDARD
BEGIN:DAYLIGHT
TZOFFSETFROM:-0500
TZOFFSETTO:-0400
TZNAME:EDT
DTSTART:20250309T070000
END:DAYLIGHT
BEGIN:STANDARD
TZOFFSETFROM:-0400
TZOFFSETTO:-0500
TZNAME:EST
DTSTART:20251102T060000
END:STANDARD
END:VTIMEZONE
BEGIN:VEVENT
DTSTART;TZID=America/New_York:20251108T100000
DTEND;TZID=America/New_York:20251108T180000
DTSTAMP:20260421T230650
CREATED:20251007T135456Z
LAST-MODIFIED:20251007T135456Z
UID:10013167-1762596000-1762624800@visithillsboroughnc.com
SUMMARY:25th Anniversary of Melissa Designer Jewelry in Historic\, Downtown Hillsborough
DESCRIPTION:Melissa Designer Jewelry\nAnniversary Sale!\nNovember 1 – 8 \nThis year marks an incredible milestone for us: 25 years in downtown Hillsborough\, NC.\nWe are so grateful for your loyal support over the years. We’re proud of the relationships we’ve built and we thank you for being a part of our story.\nJoin us in celebrating 25 years!\nIn-store sale begins at 10AM on Saturday\, November 1. Online sale begins at 12:01AM on November 1.\nThe first 25 in-person shoppers on November 1st will receive a free gift valued at $300!\n25% off in-store merchandise\n50% off select designs\nAll sales final\nMelissaDesignerJewelry.com
URL:https://visithillsboroughnc.com/event/25th-anniversary-of-melissa-designer-jewelry-in-historic-downtown-hillsborough/2025-11-08/
LOCATION:105 W King Street\, 105 W King St\, Hillsborough\, NC\, 27278\, United States
CATEGORIES:Art,Shopping
ATTACH;FMTTYPE=image/jpeg:https://visithillsboroughnc.com/wp-content/uploads/2025/10/b65d1237-c894-f2c8-330d-67f0c5bbc524.jpeg
ORGANIZER;CN="Melissa Designer Jewelry":MAILTO:mail@melissadesignerjewelry.com
END:VEVENT
BEGIN:VEVENT
DTSTART;TZID=America/New_York:20251107T100000
DTEND;TZID=America/New_York:20251107T180000
DTSTAMP:20260421T230650
CREATED:20251007T135456Z
LAST-MODIFIED:20251007T135456Z
UID:10013166-1762509600-1762538400@visithillsboroughnc.com
SUMMARY:25th Anniversary of Melissa Designer Jewelry in Historic\, Downtown Hillsborough
DESCRIPTION:Melissa Designer Jewelry\nAnniversary Sale!\nNovember 1 – 8 \nThis year marks an incredible milestone for us: 25 years in downtown Hillsborough\, NC.\nWe are so grateful for your loyal support over the years. We’re proud of the relationships we’ve built and we thank you for being a part of our story.\nJoin us in celebrating 25 years!\nIn-store sale begins at 10AM on Saturday\, November 1. Online sale begins at 12:01AM on November 1.\nThe first 25 in-person shoppers on November 1st will receive a free gift valued at $300!\n25% off in-store merchandise\n50% off select designs\nAll sales final\nMelissaDesignerJewelry.com
URL:https://visithillsboroughnc.com/event/25th-anniversary-of-melissa-designer-jewelry-in-historic-downtown-hillsborough/2025-11-07/
LOCATION:105 W King Street\, 105 W King St\, Hillsborough\, NC\, 27278\, United States
CATEGORIES:Art,Shopping
ATTACH;FMTTYPE=image/jpeg:https://visithillsboroughnc.com/wp-content/uploads/2025/10/b65d1237-c894-f2c8-330d-67f0c5bbc524.jpeg
ORGANIZER;CN="Melissa Designer Jewelry":MAILTO:mail@melissadesignerjewelry.com
END:VEVENT
BEGIN:VEVENT
DTSTART;TZID=America/New_York:20251101T100000
DTEND;TZID=America/New_York:20251101T160000
DTSTAMP:20260421T230650
CREATED:20251007T135456Z
LAST-MODIFIED:20251007T135456Z
UID:10013163-1761991200-1762012800@visithillsboroughnc.com
SUMMARY:25th Anniversary of Melissa Designer Jewelry in Historic\, Downtown Hillsborough
DESCRIPTION:Melissa Designer Jewelry\nAnniversary Sale!\nNovember 1 – 8 \nThis year marks an incredible milestone for us: 25 years in downtown Hillsborough\, NC.\nWe are so grateful for your loyal support over the years. We’re proud of the relationships we’ve built and we thank you for being a part of our story.\nJoin us in celebrating 25 years!\nIn-store sale begins at 10AM on Saturday\, November 1. Online sale begins at 12:01AM on November 1.\nThe first 25 in-person shoppers on November 1st will receive a free gift valued at $300!\n25% off in-store merchandise\n50% off select designs\nAll sales final\nMelissaDesignerJewelry.com
URL:https://visithillsboroughnc.com/event/25th-anniversary-of-melissa-designer-jewelry-in-historic-downtown-hillsborough/2025-11-01/
LOCATION:105 W King Street\, 105 W King St\, Hillsborough\, NC\, 27278\, United States
CATEGORIES:Art,Shopping
ATTACH;FMTTYPE=image/jpeg:https://visithillsboroughnc.com/wp-content/uploads/2025/10/b65d1237-c894-f2c8-330d-67f0c5bbc524.jpeg
ORGANIZER;CN="Melissa Designer Jewelry":MAILTO:mail@melissadesignerjewelry.com
END:VEVENT
BEGIN:VEVENT
DTSTART;TZID=America/New_York:20241116T100000
DTEND;TZID=America/New_York:20241116T160000
DTSTAMP:20260421T230650
CREATED:20241104T150303Z
LAST-MODIFIED:20241104T150303Z
UID:10008028-1731751200-1731772800@visithillsboroughnc.com
SUMMARY:Melissa Designer Jewelry Annual Sale
DESCRIPTION:Join us Saturday\, November 9th – Saturday November 16th for our one and only sale of the year!\nDoors open at 10AM. On-line sale begins at 12:01PM on Nov. 9 and ends at 11:59PM on the Nov. 16.\nAll finished jewelry is on sale!\nOur entire store will be 25% off\, and we will have a collection of select items for 50% off in-store only. \nALL SALES ARE FINAL  \nWE WILL BE CLOSED FRIDAY\, NOVEMBER 8TH\, TO PREPARE FOR THE SALE
URL:https://visithillsboroughnc.com/event/melissa-designer-jewelry-annual-sale/2024-11-16/
LOCATION:Melissa Designer Jewelry\, 105 W. King St\, Hillsborough\, 27278\, United States
ATTACH;FMTTYPE=image/jpeg:https://visithillsboroughnc.com/wp-content/uploads/2024/11/unnamed-3.jpg
ORGANIZER;CN="Melissa Designer Jewelry":MAILTO:mail@melissadesignerjewelry.com
END:VEVENT
BEGIN:VEVENT
DTSTART;TZID=America/New_York:20241113T100000
DTEND;TZID=America/New_York:20241113T180000
DTSTAMP:20260421T230650
CREATED:20241104T150303Z
LAST-MODIFIED:20241104T150303Z
UID:10008027-1731492000-1731520800@visithillsboroughnc.com
SUMMARY:Melissa Designer Jewelry Annual Sale
DESCRIPTION:Join us Saturday\, November 9th – Saturday November 16th for our one and only sale of the year!\nDoors open at 10AM. On-line sale begins at 12:01PM on Nov. 9 and ends at 11:59PM on the Nov. 16.\nAll finished jewelry is on sale!\nOur entire store will be 25% off\, and we will have a collection of select items for 50% off in-store only. \nALL SALES ARE FINAL  \nWE WILL BE CLOSED FRIDAY\, NOVEMBER 8TH\, TO PREPARE FOR THE SALE
URL:https://visithillsboroughnc.com/event/melissa-designer-jewelry-annual-sale/2024-11-13/
LOCATION:Melissa Designer Jewelry\, 105 W. King St\, Hillsborough\, 27278\, United States
ATTACH;FMTTYPE=image/jpeg:https://visithillsboroughnc.com/wp-content/uploads/2024/11/unnamed-3.jpg
ORGANIZER;CN="Melissa Designer Jewelry":MAILTO:mail@melissadesignerjewelry.com
END:VEVENT
BEGIN:VEVENT
DTSTART;TZID=America/New_York:20241109T100000
DTEND;TZID=America/New_York:20241109T160000
DTSTAMP:20260421T230650
CREATED:20241104T150303Z
LAST-MODIFIED:20241104T150303Z
UID:10008026-1731146400-1731168000@visithillsboroughnc.com
SUMMARY:Melissa Designer Jewelry Annual Sale
DESCRIPTION:Join us Saturday\, November 9th – Saturday November 16th for our one and only sale of the year!\nDoors open at 10AM. On-line sale begins at 12:01PM on Nov. 9 and ends at 11:59PM on the Nov. 16.\nAll finished jewelry is on sale!\nOur entire store will be 25% off\, and we will have a collection of select items for 50% off in-store only. \nALL SALES ARE FINAL  \nWE WILL BE CLOSED FRIDAY\, NOVEMBER 8TH\, TO PREPARE FOR THE SALE
URL:https://visithillsboroughnc.com/event/melissa-designer-jewelry-annual-sale/2024-11-09/
LOCATION:Melissa Designer Jewelry\, 105 W. King St\, Hillsborough\, 27278\, United States
ATTACH;FMTTYPE=image/jpeg:https://visithillsboroughnc.com/wp-content/uploads/2024/11/unnamed-3.jpg
ORGANIZER;CN="Melissa Designer Jewelry":MAILTO:mail@melissadesignerjewelry.com
END:VEVENT
BEGIN:VEVENT
DTSTART;TZID=America/New_York:20240907T150000
DTEND;TZID=America/New_York:20240907T190000
DTSTAMP:20260421T230650
CREATED:20240814T135028Z
LAST-MODIFIED:20240821T185446Z
UID:10007653-1725721200-1725735600@visithillsboroughnc.com
SUMMARY:Melissa Designer Jewelry Grand Opening
DESCRIPTION:Join us for our Grand Opening Saturday September 7 from 3 to 7pm! We welcome the community to explore our new space while enjoying light hors d’oeuvres and cocktails. Be sure to stay for our fabulous door prizes! \nContinuing 25 years in Historic Downtown Hillsborough\, we are moving into our next huge phase of business at 105 W. King St\, Hillsborough. We are excited to be offering more of the services you’ve come to love: \n\nMore artisan jewelry\nPrivate consultation space\nLarger goldsmith studio\nCustom gold and platinum jewelry\nHigh quality jewelry repair\nExpanded Hours: Wed/Thu/Fri 10-6\, Sat 10-4\n\nWe will be open for regular business at our new location beginning Wednesday\, September 11th. Drop by our Grand Opening for a sneak peek at our new space! \nOur last day of business at 116 S. Churton St. will be August 24th.
URL:https://visithillsboroughnc.com/event/melissa-designer-jewelry-grand-opening/
LOCATION:Melissa Designer Jewelry\, 105 W. King St\, Hillsborough\, 27278\, United States
CATEGORIES:Art,Food/Drink,Free,Shopping
ATTACH;FMTTYPE=image/png:https://visithillsboroughnc.com/wp-content/uploads/2024/08/GRAND-OPENING.png
ORGANIZER;CN="Melissa Designer Jewelry":MAILTO:mail@melissadesignerjewelry.com
END:VEVENT
END:VCALENDAR