BEGIN:VCALENDAR
VERSION:2.0
PRODID:-//Visit Hillsborough, NC - ECPv6.15.4//NONSGML v1.0//EN
CALSCALE:GREGORIAN
METHOD:PUBLISH
X-ORIGINAL-URL:https://visithillsboroughnc.com
X-WR-CALDESC:Events for Visit Hillsborough, NC
REFRESH-INTERVAL;VALUE=DURATION:PT1H
X-Robots-Tag:noindex
X-PUBLISHED-TTL:PT1H
BEGIN:VTIMEZONE
TZID:America/New_York
BEGIN:DAYLIGHT
TZOFFSETFROM:-0500
TZOFFSETTO:-0400
TZNAME:EDT
DTSTART:20250309T070000
END:DAYLIGHT
BEGIN:STANDARD
TZOFFSETFROM:-0400
TZOFFSETTO:-0500
TZNAME:EST
DTSTART:20251102T060000
END:STANDARD
END:VTIMEZONE
BEGIN:VEVENT
DTSTART;TZID=America/New_York:20251024T180000
DTEND;TZID=America/New_York:20251024T210000
DTSTAMP:20260420T051221
CREATED:20251007T174044Z
LAST-MODIFIED:20251007T174044Z
UID:10013168-1761328800-1761339600@visithillsboroughnc.com
SUMMARY:Opening Reception for "Organics\," featuring the artwork of Beverly Calhoun
DESCRIPTION:The Little Market\, Hillsborough’s satellite gallery curated by members of the Hillsborough Gallery of Arts\, is pleased to present Organics\, a new exhibition of mixed media work by Beverly Calhoun. \nIn Organics\, Calhoun embraces process as a form of discovery\, allowing each piece to unfold intuitively rather than following a set plan. “Often there is no real outcome in mind\,” the artist explains. “Sometimes a story develops along the way to guide me; sometimes it comes later.” \nDrawing inspiration from the natural environment\, Calhoun builds layers of organic shapes\, patterns\, textures\, and color\, creating compositions that feel both spontaneous and deeply connected to the living world. Through a mix of materials such as acrylics\, inks\, charcoal\, and collage papers\, the work captures the beauty of experimentation itself: the sense of exploration\, play\, and openness that keeps the creative process alive. \nThe Little Market is a collaboration between the Hillsborough Gallery of Arts and the Hillsborough Real Estate Group\, providing exhibit space for local and emerging artists and handmade giftable items by NC crafters. Admission is free and all works are available for purchase. \nThe Little Market is located at 118 N. Churton Street within Hillsborough Real Estate Group\, and is open Fridays 2-6pm\, Saturdays 12–4pm\, and Last Fridays 6-9pm. Organics will be on view through January 18th\, 2025. For more information\, visit www.hillsboroughgallery.com/the-little-market
URL:https://visithillsboroughnc.com/event/opening-reception-for-organics-featuring-the-artwork-of-beverly-calhoun/
LOCATION:118 N. Churton Street\, 118 N. Churton St\, Hillsborough\, NC\, 27278\, United States
CATEGORIES:Art
ATTACH;FMTTYPE=image/jpeg:https://visithillsboroughnc.com/wp-content/uploads/2025/10/Inlet.jpg
ORGANIZER;CN="the little market":MAILTO:elliesnow@gmail.com
END:VEVENT
BEGIN:VEVENT
DTSTART;TZID=America/New_York:20250926T180000
DTEND;TZID=America/New_York:20250926T210000
DTSTAMP:20260420T051221
CREATED:20250925T163714Z
LAST-MODIFIED:20250925T163714Z
UID:10013072-1758909600-1758920400@visithillsboroughnc.com
SUMMARY:Closing Reception for  watercolor show "Visions" at The Little market
DESCRIPTION:The Little Market is pleased to present Visions\, a new two-person show featuring the expressive watercolor work of Beth Bale and William Schaefer. \nBeth Bale brings her deep love of nature to life in expressive watercolor. A self-taught artist and teacher\, Beth captures animals\, florals\, and landscapes with fluidity and experimentation. Her work reflects a playful and curious approach to the medium of watercolor\, rooted in the rhythms of her life on a 12-acre farm. \nWilliam Schaefer paints visual stories shaped by memory\, emotion\, and quiet reflection. Working in watercolor and mixed media\, his luminous compositions blend strong value contrast and rich color to evoke connection. Each painting invites the viewer to slow down and rediscover the emotional undertones of the everyday. \nTogether\, Schaefer and Bale explore the spaces where feeling\, nature\, and narrative meet. \nThe Little Market is an exciting new collaboration between the Hillsborough Gallery of Arts and the Hillsborough Real Estate Group\, providing exhibit space for local and emerging artists and handmade giftable items by NC crafters. Admission is free and all works are available for purchase. \n— \nThe Little Market is located at 118 N. Churton Street within Hillsborough Real Estate Group\, and is open Fridays 2-6pm\, Saturdays 12–4pm\, and Last Fridays 6-9pm. Fragile Light will be on view from June 19th through August 19th\, 2025. For more information\, visit www.hillsboroughgallery.com/the-little-market.
URL:https://visithillsboroughnc.com/event/closing-reception-for-watercolor-show-visions-at-the-little-market/
LOCATION:118 N. Churton Street\, 118 N. Churton St\, Hillsborough\, NC\, 27278\, United States
CATEGORIES:Art,Family
ATTACH;FMTTYPE=image/jpeg:https://visithillsboroughnc.com/wp-content/uploads/2025/09/RustinginPeace.jpg
ORGANIZER;CN="the little market":MAILTO:elliesnow@gmail.com
END:VEVENT
END:VCALENDAR